BEGIN:VCALENDAR
VERSION:2.0
PRODID:-//Explore Gainesville - ECPv6.15.11//NONSGML v1.0//EN
CALSCALE:GREGORIAN
METHOD:PUBLISH
X-ORIGINAL-URL:https://www.exploregainesville.org
X-WR-CALDESC:Events for Explore Gainesville
REFRESH-INTERVAL;VALUE=DURATION:PT1H
X-Robots-Tag:noindex
X-PUBLISHED-TTL:PT1H
BEGIN:VTIMEZONE
TZID:America/New_York
BEGIN:DAYLIGHT
TZOFFSETFROM:-0500
TZOFFSETTO:-0400
TZNAME:EDT
DTSTART:20250309T070000
END:DAYLIGHT
BEGIN:STANDARD
TZOFFSETFROM:-0400
TZOFFSETTO:-0500
TZNAME:EST
DTSTART:20251102T060000
END:STANDARD
BEGIN:DAYLIGHT
TZOFFSETFROM:-0500
TZOFFSETTO:-0400
TZNAME:EDT
DTSTART:20260308T070000
END:DAYLIGHT
BEGIN:STANDARD
TZOFFSETFROM:-0400
TZOFFSETTO:-0500
TZNAME:EST
DTSTART:20261101T060000
END:STANDARD
BEGIN:DAYLIGHT
TZOFFSETFROM:-0500
TZOFFSETTO:-0400
TZNAME:EDT
DTSTART:20270314T070000
END:DAYLIGHT
BEGIN:STANDARD
TZOFFSETFROM:-0400
TZOFFSETTO:-0500
TZNAME:EST
DTSTART:20271107T060000
END:STANDARD
END:VTIMEZONE
BEGIN:VEVENT
DTSTART;TZID=America/New_York:20260424T190000
DTEND;TZID=America/New_York:20260424T190000
DTSTAMP:20260423T040559
CREATED:20260107T160308Z
LAST-MODIFIED:20260107T160308Z
UID:10012458-1777057200-1777057200@www.exploregainesville.org
SUMMARY:Battle of the Bands - The Arts Council
DESCRIPTION:The Arts Council is excited to announce the highly anticipated 2026 Battle of the Bands\, taking place on Friday\, April 24\, 2026\, at the Smithgall Arts Center. This annual showcase brings together the region’s most dynamic emerging artists for an unforgettable night of live music\, competition\, and community celebration. \nBands of all genres are invited to apply for a chance to perform on stage\, connect with new audiences\, and compete for top honors\, including our grand prize of $1\,000 and the opportunity to headline a show in the 2026/2027 season with 50% of ticket sales or our People’s Choice award which includes a cash prize and an opportunity to open at a concert. A panel of judges—featuring industry professionals\, local musicians\, and community leaders—will evaluate performances based on originality\, musicality\, stage presence\, and audience engagement. Our people’s choice will be determined by who can raise the most funds for the Arts Council through donations. \nApplications are open now through March 4\, 2026. Interested bands can apply by submitting basic group information\, music samples\, and a brief performance proposal. An application fee of $100 will apply and selected finalists will be announced in March 2026.
URL:https://www.exploregainesville.org/event/battle-of-the-bands-the-arts-council/
LOCATION:The Arts Council Smithgall Arts Center\, 331 Spring Street SW\, Gainesville\, GA\, 30501\, United States
CATEGORIES:Arts,Downtown Events,Main Calendar
ATTACH;FMTTYPE=image/png:https://www.exploregainesville.org/wp-content/uploads/2025/12/BOB-Exploe-Gville-Sign-November-19-2025-at-13.11.25-1.png
ORGANIZER;CN="The Arts Council":MAILTO:info@theartscouncil.net
END:VEVENT
BEGIN:VEVENT
DTSTART;TZID=America/New_York:20260429T174500
DTEND;TZID=America/New_York:20260429T184500
DTSTAMP:20260423T040559
CREATED:20260307T142726Z
LAST-MODIFIED:20260307T142726Z
UID:10013038-1777484700-1777488300@www.exploregainesville.org
SUMMARY:Wellness Wednesdays - Smithgall Arts Center
DESCRIPTION:Wellness Wednesday – Yoga for a Cause!\nJoin Us Again for Wellness Wednesdays – A Serene 8 Week Yoga Series Supporting Brain Cancer Research \nStep into a space of tranquility and purpose with Wellness Wednesday—a rejuvenating outdoor yoga class dedicated to raising funds for brain cancer research with KMF. This is your chance to nourish your mind\, body\, and soul while making a meaningful impact in the fight against brain cancer. \nEvent Details:\nDates: Wednesdays\, April 1 – May 27\, 2026 (No class on April 22)\nTime: 5:45 – 6:45 PM (Rain or Shine)\nLocation: Smithgall Arts Center Pavilion\nGates open at 5:30 PM and close at 7:00 PM \nAbout the Class\nLed by experienced yoga instructor Becky Martin (E-RYT 200)\, Wellness Wednesday is designed for all levels\, ages 13 and up. Whether you’re a seasoned yogi or brand new to the practice\, this class offers a peaceful and uplifting experience\, all while supporting a great cause. \nWhy Join?\nSupport Brain Cancer Research – 100% of proceeds benefit the Knox Martin Foundation for Brain Cancer Research\, a local 501(c)(3) nonprofit advancing research and treatment.\nGuided Yoga Flow – A mindful\, breath-centered practice to restore balance and inner calm.\nSerene Outdoor Setting – Practice in nature’s beauty\, surrounded by fresh air and greenery.\nSunset Meditation – Reflect and recharge as the sun sets.\nCommunity Connection – After class\, enjoy refreshments and dinner at local venues while connecting with fellow participants. \nWhat to Bring\nYoga Mat or a comfortable blanket\nWater Bottle to stay hydrated\nWeather-Appropriate Attire (layers recommended)\nSmartphone for easy access to the liability waiver and donation via Venmo or QR code \nClass Fee & Registration\n$15 donation per class OR $90 for the full 8-week session ($10 per class) \nBy joining Wellness Wednesday\, you’re not just prioritizing your well-being—you’re contributing to life-saving research and giving someone else’s Knox a shot at a longer life. \nFor questions\, contact Becky Martin at becky@knoxmartinfoundation.org \nLet’s move\, breathe\, and make a difference together!
URL:https://www.exploregainesville.org/event/wellness-wednesdays-knox-martin-foundation/2026-04-29/
LOCATION:The Arts Council Smithgall Arts Center\, 331 Spring Street SW\, Gainesville\, GA\, 30501\, United States
CATEGORIES:Downtown Events,Main Calendar
ATTACH;FMTTYPE=image/png:https://www.exploregainesville.org/wp-content/uploads/2026/03/Wellness-Wednesday-Spring-Series.png
ORGANIZER;CN="Knox Martin Foundation for Brain Cancer Research":MAILTO:becky@knoxmartinfoundation.org
END:VEVENT
BEGIN:VEVENT
DTSTART;TZID=America/New_York:20260502T183000
DTEND;TZID=America/New_York:20260502T223000
DTSTAMP:20260423T040559
CREATED:20260330T142912Z
LAST-MODIFIED:20260330T142912Z
UID:10013081-1777746600-1777761000@www.exploregainesville.org
SUMMARY:Live Music: Preston Cooper - Smithgall Arts Center
DESCRIPTION:With a vocal so expressive it builds into jaw-dropping eruptions of power and emotion\, 22-year-old artist Preston Cooper represents the start of a new generation in Country Rock. The biggest voice to ever hail from the tiny town of Fredericktown\, Ohio\, Preston’s soulful and blues inspired vocal is a potent force of nature\, drawing comparisons to icons like Chris Stapleton and Bob Seger. First picking up guitar as a high school freshman\, he joined the US Postal Service after graduation and found local fame as “The Singing Mailman” – walking up to 14 miles each day while belting out raw\, raspy vocal runs\, then clocking out to perform across the region. Hundreds of shows later\, hit-making legends Brad and Brett Warren (Tim McGraw\, Dierks Bentley\, Keith Urban) discovered Preston at a Toledo songwriter’s round\, and quickly recognized his once-in-a-lifetime talent. With his debut album\, Toledo Talkin’\, released August 29\, the first chapter of this generational talent’s story unfolds. With 12 incendiary tracks – all but three co-written by the no-frills newcomer – Toledo Talkin’ was recorded with an old-school\, full-band process\, lashed together with sheer vocal intensity miles different from the Music Row norm. The album wields a mix of raw\, organic Country and edgy Alt Rock\, as evidenced on his show-stopping debut track “Weak\,” emotive “One More Place I’ve Never Been\,” shot of nostalgia “Numbers On A Mailbox\,” highway rocker “One For The Road\,” and personal reflection “The Takedown.” Preston recently wrapped his run as direct support for Kameron Marlowe’s Keepin’ The Lights On Tour and select dates of Riley Green’s Country Music Tour. Preston made his Grand Ole Opry Debut on October 24th and was introduced by Vince Gill. Preston will keep busy in 2026 as he tours fairs\, festivals\, and a run of headlining shows. For more information\, visit www.prestoncoopermusic.com. \nGates open at 6:30pm. Bring a bag chair or reserve a table. RAIN OR SHINE – NO OUTSIDE FOOD OR DRINKS! Preorder a meal when purchasing tickets from our featured caterer Epting Events – limited number of meals will be available at the concert.
URL:https://www.exploregainesville.org/event/preston-cooper-smithgall-arts-center/
LOCATION:The Arts Council Smithgall Arts Center\, 331 Spring Street SW\, Gainesville\, GA\, 30501\, United States
CATEGORIES:Arts,Downtown Events,Main Calendar
ATTACH;FMTTYPE=image/png:https://www.exploregainesville.org/wp-content/uploads/2026/03/26-SMS-individual-posters-3-Preston-Cooper-851x315-1.png
ORGANIZER;CN="The Arts Council":MAILTO:info@theartscouncil.net
END:VEVENT
BEGIN:VEVENT
DTSTART;TZID=America/New_York:20260506T174500
DTEND;TZID=America/New_York:20260506T184500
DTSTAMP:20260423T040559
CREATED:20260307T142726Z
LAST-MODIFIED:20260307T142726Z
UID:10013039-1778089500-1778093100@www.exploregainesville.org
SUMMARY:Wellness Wednesdays - Smithgall Arts Center
DESCRIPTION:Wellness Wednesday – Yoga for a Cause!\nJoin Us Again for Wellness Wednesdays – A Serene 8 Week Yoga Series Supporting Brain Cancer Research \nStep into a space of tranquility and purpose with Wellness Wednesday—a rejuvenating outdoor yoga class dedicated to raising funds for brain cancer research with KMF. This is your chance to nourish your mind\, body\, and soul while making a meaningful impact in the fight against brain cancer. \nEvent Details:\nDates: Wednesdays\, April 1 – May 27\, 2026 (No class on April 22)\nTime: 5:45 – 6:45 PM (Rain or Shine)\nLocation: Smithgall Arts Center Pavilion\nGates open at 5:30 PM and close at 7:00 PM \nAbout the Class\nLed by experienced yoga instructor Becky Martin (E-RYT 200)\, Wellness Wednesday is designed for all levels\, ages 13 and up. Whether you’re a seasoned yogi or brand new to the practice\, this class offers a peaceful and uplifting experience\, all while supporting a great cause. \nWhy Join?\nSupport Brain Cancer Research – 100% of proceeds benefit the Knox Martin Foundation for Brain Cancer Research\, a local 501(c)(3) nonprofit advancing research and treatment.\nGuided Yoga Flow – A mindful\, breath-centered practice to restore balance and inner calm.\nSerene Outdoor Setting – Practice in nature’s beauty\, surrounded by fresh air and greenery.\nSunset Meditation – Reflect and recharge as the sun sets.\nCommunity Connection – After class\, enjoy refreshments and dinner at local venues while connecting with fellow participants. \nWhat to Bring\nYoga Mat or a comfortable blanket\nWater Bottle to stay hydrated\nWeather-Appropriate Attire (layers recommended)\nSmartphone for easy access to the liability waiver and donation via Venmo or QR code \nClass Fee & Registration\n$15 donation per class OR $90 for the full 8-week session ($10 per class) \nBy joining Wellness Wednesday\, you’re not just prioritizing your well-being—you’re contributing to life-saving research and giving someone else’s Knox a shot at a longer life. \nFor questions\, contact Becky Martin at becky@knoxmartinfoundation.org \nLet’s move\, breathe\, and make a difference together!
URL:https://www.exploregainesville.org/event/wellness-wednesdays-knox-martin-foundation/2026-05-06/
LOCATION:The Arts Council Smithgall Arts Center\, 331 Spring Street SW\, Gainesville\, GA\, 30501\, United States
CATEGORIES:Downtown Events,Main Calendar
ATTACH;FMTTYPE=image/png:https://www.exploregainesville.org/wp-content/uploads/2026/03/Wellness-Wednesday-Spring-Series.png
ORGANIZER;CN="Knox Martin Foundation for Brain Cancer Research":MAILTO:becky@knoxmartinfoundation.org
END:VEVENT
BEGIN:VEVENT
DTSTART;TZID=America/New_York:20260513T174500
DTEND;TZID=America/New_York:20260513T184500
DTSTAMP:20260423T040559
CREATED:20260307T142726Z
LAST-MODIFIED:20260307T142726Z
UID:10013040-1778694300-1778697900@www.exploregainesville.org
SUMMARY:Wellness Wednesdays - Smithgall Arts Center
DESCRIPTION:Wellness Wednesday – Yoga for a Cause!\nJoin Us Again for Wellness Wednesdays – A Serene 8 Week Yoga Series Supporting Brain Cancer Research \nStep into a space of tranquility and purpose with Wellness Wednesday—a rejuvenating outdoor yoga class dedicated to raising funds for brain cancer research with KMF. This is your chance to nourish your mind\, body\, and soul while making a meaningful impact in the fight against brain cancer. \nEvent Details:\nDates: Wednesdays\, April 1 – May 27\, 2026 (No class on April 22)\nTime: 5:45 – 6:45 PM (Rain or Shine)\nLocation: Smithgall Arts Center Pavilion\nGates open at 5:30 PM and close at 7:00 PM \nAbout the Class\nLed by experienced yoga instructor Becky Martin (E-RYT 200)\, Wellness Wednesday is designed for all levels\, ages 13 and up. Whether you’re a seasoned yogi or brand new to the practice\, this class offers a peaceful and uplifting experience\, all while supporting a great cause. \nWhy Join?\nSupport Brain Cancer Research – 100% of proceeds benefit the Knox Martin Foundation for Brain Cancer Research\, a local 501(c)(3) nonprofit advancing research and treatment.\nGuided Yoga Flow – A mindful\, breath-centered practice to restore balance and inner calm.\nSerene Outdoor Setting – Practice in nature’s beauty\, surrounded by fresh air and greenery.\nSunset Meditation – Reflect and recharge as the sun sets.\nCommunity Connection – After class\, enjoy refreshments and dinner at local venues while connecting with fellow participants. \nWhat to Bring\nYoga Mat or a comfortable blanket\nWater Bottle to stay hydrated\nWeather-Appropriate Attire (layers recommended)\nSmartphone for easy access to the liability waiver and donation via Venmo or QR code \nClass Fee & Registration\n$15 donation per class OR $90 for the full 8-week session ($10 per class) \nBy joining Wellness Wednesday\, you’re not just prioritizing your well-being—you’re contributing to life-saving research and giving someone else’s Knox a shot at a longer life. \nFor questions\, contact Becky Martin at becky@knoxmartinfoundation.org \nLet’s move\, breathe\, and make a difference together!
URL:https://www.exploregainesville.org/event/wellness-wednesdays-knox-martin-foundation/2026-05-13/
LOCATION:The Arts Council Smithgall Arts Center\, 331 Spring Street SW\, Gainesville\, GA\, 30501\, United States
CATEGORIES:Downtown Events,Main Calendar
ATTACH;FMTTYPE=image/png:https://www.exploregainesville.org/wp-content/uploads/2026/03/Wellness-Wednesday-Spring-Series.png
ORGANIZER;CN="Knox Martin Foundation for Brain Cancer Research":MAILTO:becky@knoxmartinfoundation.org
END:VEVENT
BEGIN:VEVENT
DTSTART;TZID=America/New_York:20260516T200000
DTEND;TZID=America/New_York:20260516T220000
DTSTAMP:20260423T040559
CREATED:20251022T185936Z
LAST-MODIFIED:20251022T185936Z
UID:10011762-1778961600-1778968800@www.exploregainesville.org
SUMMARY:Evenings of Intimate Jazz: Joe Gransden Ensemble - Smithgall Arts Center
DESCRIPTION:The Joe Gransden and his eight-piece band brings the timeless swing and excitement of classic big band jazz into the modern age\, led by the charismatic trumpeter and vocalist Joe Gransden. Known for their electrifying performances\, lush arrangements\, and infectious energy\, this powerhouse ensemble delivers everything from Count Basie–style grooves to contemporary jazz favorites. With every note\, they remind audiences why big band music continues to thrill\, uplift\, and bring people together for an unforgettable night of music. \nSeating is first come\, first serve. Gates open at 7:00pm\, concert starts at 8:00pm.
URL:https://www.exploregainesville.org/event/joe-gransden-ensemble-smithgall-arts-center/
LOCATION:The Arts Council Smithgall Arts Center\, 331 Spring Street SW\, Gainesville\, GA\, 30501\, United States
CATEGORIES:Arts,Downtown Events,Main Calendar
ATTACH;FMTTYPE=image/png:https://www.exploregainesville.org/wp-content/uploads/2025/10/Joe-Gransden.png
ORGANIZER;CN="The Arts Council":MAILTO:info@theartscouncil.net
END:VEVENT
BEGIN:VEVENT
DTSTART;TZID=America/New_York:20260520T174500
DTEND;TZID=America/New_York:20260520T184500
DTSTAMP:20260423T040559
CREATED:20260307T142726Z
LAST-MODIFIED:20260307T142726Z
UID:10013041-1779299100-1779302700@www.exploregainesville.org
SUMMARY:Wellness Wednesdays - Smithgall Arts Center
DESCRIPTION:Wellness Wednesday – Yoga for a Cause!\nJoin Us Again for Wellness Wednesdays – A Serene 8 Week Yoga Series Supporting Brain Cancer Research \nStep into a space of tranquility and purpose with Wellness Wednesday—a rejuvenating outdoor yoga class dedicated to raising funds for brain cancer research with KMF. This is your chance to nourish your mind\, body\, and soul while making a meaningful impact in the fight against brain cancer. \nEvent Details:\nDates: Wednesdays\, April 1 – May 27\, 2026 (No class on April 22)\nTime: 5:45 – 6:45 PM (Rain or Shine)\nLocation: Smithgall Arts Center Pavilion\nGates open at 5:30 PM and close at 7:00 PM \nAbout the Class\nLed by experienced yoga instructor Becky Martin (E-RYT 200)\, Wellness Wednesday is designed for all levels\, ages 13 and up. Whether you’re a seasoned yogi or brand new to the practice\, this class offers a peaceful and uplifting experience\, all while supporting a great cause. \nWhy Join?\nSupport Brain Cancer Research – 100% of proceeds benefit the Knox Martin Foundation for Brain Cancer Research\, a local 501(c)(3) nonprofit advancing research and treatment.\nGuided Yoga Flow – A mindful\, breath-centered practice to restore balance and inner calm.\nSerene Outdoor Setting – Practice in nature’s beauty\, surrounded by fresh air and greenery.\nSunset Meditation – Reflect and recharge as the sun sets.\nCommunity Connection – After class\, enjoy refreshments and dinner at local venues while connecting with fellow participants. \nWhat to Bring\nYoga Mat or a comfortable blanket\nWater Bottle to stay hydrated\nWeather-Appropriate Attire (layers recommended)\nSmartphone for easy access to the liability waiver and donation via Venmo or QR code \nClass Fee & Registration\n$15 donation per class OR $90 for the full 8-week session ($10 per class) \nBy joining Wellness Wednesday\, you’re not just prioritizing your well-being—you’re contributing to life-saving research and giving someone else’s Knox a shot at a longer life. \nFor questions\, contact Becky Martin at becky@knoxmartinfoundation.org \nLet’s move\, breathe\, and make a difference together!
URL:https://www.exploregainesville.org/event/wellness-wednesdays-knox-martin-foundation/2026-05-20/
LOCATION:The Arts Council Smithgall Arts Center\, 331 Spring Street SW\, Gainesville\, GA\, 30501\, United States
CATEGORIES:Downtown Events,Main Calendar
ATTACH;FMTTYPE=image/png:https://www.exploregainesville.org/wp-content/uploads/2026/03/Wellness-Wednesday-Spring-Series.png
ORGANIZER;CN="Knox Martin Foundation for Brain Cancer Research":MAILTO:becky@knoxmartinfoundation.org
END:VEVENT
BEGIN:VEVENT
DTSTART;TZID=America/New_York:20260527T174500
DTEND;TZID=America/New_York:20260527T184500
DTSTAMP:20260423T040559
CREATED:20260307T142726Z
LAST-MODIFIED:20260307T142726Z
UID:10013042-1779903900-1779907500@www.exploregainesville.org
SUMMARY:Wellness Wednesdays - Smithgall Arts Center
DESCRIPTION:Wellness Wednesday – Yoga for a Cause!\nJoin Us Again for Wellness Wednesdays – A Serene 8 Week Yoga Series Supporting Brain Cancer Research \nStep into a space of tranquility and purpose with Wellness Wednesday—a rejuvenating outdoor yoga class dedicated to raising funds for brain cancer research with KMF. This is your chance to nourish your mind\, body\, and soul while making a meaningful impact in the fight against brain cancer. \nEvent Details:\nDates: Wednesdays\, April 1 – May 27\, 2026 (No class on April 22)\nTime: 5:45 – 6:45 PM (Rain or Shine)\nLocation: Smithgall Arts Center Pavilion\nGates open at 5:30 PM and close at 7:00 PM \nAbout the Class\nLed by experienced yoga instructor Becky Martin (E-RYT 200)\, Wellness Wednesday is designed for all levels\, ages 13 and up. Whether you’re a seasoned yogi or brand new to the practice\, this class offers a peaceful and uplifting experience\, all while supporting a great cause. \nWhy Join?\nSupport Brain Cancer Research – 100% of proceeds benefit the Knox Martin Foundation for Brain Cancer Research\, a local 501(c)(3) nonprofit advancing research and treatment.\nGuided Yoga Flow – A mindful\, breath-centered practice to restore balance and inner calm.\nSerene Outdoor Setting – Practice in nature’s beauty\, surrounded by fresh air and greenery.\nSunset Meditation – Reflect and recharge as the sun sets.\nCommunity Connection – After class\, enjoy refreshments and dinner at local venues while connecting with fellow participants. \nWhat to Bring\nYoga Mat or a comfortable blanket\nWater Bottle to stay hydrated\nWeather-Appropriate Attire (layers recommended)\nSmartphone for easy access to the liability waiver and donation via Venmo or QR code \nClass Fee & Registration\n$15 donation per class OR $90 for the full 8-week session ($10 per class) \nBy joining Wellness Wednesday\, you’re not just prioritizing your well-being—you’re contributing to life-saving research and giving someone else’s Knox a shot at a longer life. \nFor questions\, contact Becky Martin at becky@knoxmartinfoundation.org \nLet’s move\, breathe\, and make a difference together!
URL:https://www.exploregainesville.org/event/wellness-wednesdays-knox-martin-foundation/2026-05-27/
LOCATION:The Arts Council Smithgall Arts Center\, 331 Spring Street SW\, Gainesville\, GA\, 30501\, United States
CATEGORIES:Downtown Events,Main Calendar
ATTACH;FMTTYPE=image/png:https://www.exploregainesville.org/wp-content/uploads/2026/03/Wellness-Wednesday-Spring-Series.png
ORGANIZER;CN="Knox Martin Foundation for Brain Cancer Research":MAILTO:becky@knoxmartinfoundation.org
END:VEVENT
BEGIN:VEVENT
DTSTART;TZID=America/New_York:20260612T200000
DTEND;TZID=America/New_York:20260612T220000
DTSTAMP:20260423T040559
CREATED:20260403T203116Z
LAST-MODIFIED:20260403T203116Z
UID:10013092-1781294400-1781301600@www.exploregainesville.org
SUMMARY:Summer Music Series: Jake Worthington - Smithgall Arts Center
DESCRIPTION:For big loud Texas traditionalist Jake Worthington\, country music is in his DNA. \nThe La Porte\, Texas native was raised on his grandfather’s porch performances of Ray Price\, Merle Haggard and George Jones\, and soon picked up his own Gibson acoustic to realize the breadth of his soon-to-be-classic\, wide and wild voice. Now\, Worthington breathes fresh life into dance halls\, beer joints and ballrooms from Texas to Tennessee with his growing catalog – his sophomore album When I Write The Song is out now with Miranda Lambert collaboration “Hello S….. Day\,” “I’m The One (feat. Marty Stuart)\,” viral “It Ain’t The Whiskey” and more.\nCaptivating the masses with his honky-tonk stylings\, the singer-songwriter hits the road this year on his headlining Intent To Tonk Tour\, as well as opening dates with Luke Combs\, Luke Bryan\, HARDY\, Parker McCollum\, Riley Green and lan Munsick. “I believe in country music as much as I believe in my next breath\,” Worthington declares\, and “blame it on my raising\, but I think there ought to be room for country in country music.” \nGates open at 6:00 p.m. Bring a bag chair or reserve a table. RAIN OR SHINE – NO OUTSIDE FOOD OR DRINKS! Preorder a meal when purchasing tickets from our featured caterer Epting Events– limited number of meals will be available at the concert.
URL:https://www.exploregainesville.org/event/summer-music-series-jake-worthington-smithgall-arts-center/
LOCATION:The Arts Council Smithgall Arts Center\, 331 Spring Street SW\, Gainesville\, GA\, 30501\, United States
CATEGORIES:Arts,Downtown Events,Main Calendar
ATTACH;FMTTYPE=image/png:https://www.exploregainesville.org/wp-content/uploads/2026/04/Untitled-design-2.png
ORGANIZER;CN="The Arts Council":MAILTO:info@theartscouncil.net
END:VEVENT
BEGIN:VEVENT
DTSTART;TZID=America/New_York:20260718T200000
DTEND;TZID=America/New_York:20260718T220000
DTSTAMP:20260423T040559
CREATED:20260403T204124Z
LAST-MODIFIED:20260403T204124Z
UID:10013093-1784404800-1784412000@www.exploregainesville.org
SUMMARY:Summer Music Series: Eggy - Smithgall Arts Center
DESCRIPTION:Eggy is redefining the modern jam band experience with a blend of rich songwriting\, exploratory improvisation\, and magnetic live energy. The Connecticut-based quartet—Jake Brownstein (guitar\, vocals)\, Dani Battat (keys\, vocals)\, Mike Goodman (bass\, vocals)\, and Alex Bailey (drums\, vocals)—has built a reputation for emotionally resonant songs and live performances that turn every set into an unpredictable\, communal experience. \n$1 from every ticket sold goes to Backline Care. Backline Care is a 501(c)(3) non-profit that connects music industry professionals and their families with mental health and wellness resources. \nGates open at 6:00 p.m. Bring a chair or reserve a table. RAIN OR SHINE – NO OUTSIDE FOOD OR DRINKS! Preorder a meal when purchasing tickets from our featured caterer Epting Events– limited number of meals will be available at the concert.
URL:https://www.exploregainesville.org/event/summer-music-series-eggy-smithgall-arts-center/
LOCATION:The Arts Council Smithgall Arts Center\, 331 Spring Street SW\, Gainesville\, GA\, 30501\, United States
CATEGORIES:Arts,Downtown Events,Main Calendar
ATTACH;FMTTYPE=image/png:https://www.exploregainesville.org/wp-content/uploads/2026/04/Untitled-design-3.png
ORGANIZER;CN="The Arts Council":MAILTO:info@theartscouncil.net
END:VEVENT
BEGIN:VEVENT
DTSTART;TZID=America/New_York:20260801T190000
DTEND;TZID=America/New_York:20260801T223000
DTSTAMP:20260423T040559
CREATED:20260330T142409Z
LAST-MODIFIED:20260330T142409Z
UID:10013082-1785610800-1785623400@www.exploregainesville.org
SUMMARY:Live Concert: Back in Time - Smithgall Arts Center
DESCRIPTION:Back in Time\, formed in 2009\, is one of North Georgia’s premiere Horn/Show Bands. A tremendous lead singer\, backed up by a five piece rhythm section and four outstanding horns\, performs hits of the 1950’s\, 1960’s\, 1970’s and 1980’s. Featured hits include\, beach\, r&b\, blues\, motown\, and classic ballads – something for everyone. Arrangements based on the original recordings highlight this outstanding band. \nGates open at 7:00pm. Bring a bag chair or reserve a table. RAIN OR SHINE – NO OUTSIDE FOOD OR DRINKS! Preorder a meal when purchasing tickets from our featured caterer Epting Events – limited number of meals will be available at the concert.
URL:https://www.exploregainesville.org/event/back-in-time-smithgall-arts-center/
LOCATION:The Arts Council Smithgall Arts Center\, 331 Spring Street SW\, Gainesville\, GA\, 30501\, United States
CATEGORIES:Arts,Downtown Events,Main Calendar
ATTACH;FMTTYPE=image/png:https://www.exploregainesville.org/wp-content/uploads/2026/03/26-SMS-individual-posters-12-Back-in-Time-851x315-1.png
ORGANIZER;CN="The Arts Council":MAILTO:info@theartscouncil.net
END:VEVENT
BEGIN:VEVENT
DTSTART;TZID=America/New_York:20260814T200000
DTEND;TZID=America/New_York:20260814T220000
DTSTAMP:20260423T040559
CREATED:20260403T121352Z
LAST-MODIFIED:20260403T191151Z
UID:10013094-1786737600-1786744800@www.exploregainesville.org
SUMMARY:Summer Music Series: The Brook & The Bluff - Smithgall Arts Center
DESCRIPTION:Armed with a new album and an unflinching spirit\, The Brook & The Bluff are ready to hit the road again. The band boasts a history of sold-out headline tours across the continent\, a number of major festival performances\, and have supported artists like Noah Kahan\, Mt. Joy\, The Avett Brothers\, Ashe\, and Rainbow Kitten Surprise. \nGates open at 6:30 p.m. Bring a bag chair or reserve a table. RAIN OR SHINE – NO OUTSIDE FOOD OR DRINKS! Preorder a meal when purchasing tickets from our featured caterer Epting Events– limited number of meals will be available at the concert. \n 
URL:https://www.exploregainesville.org/event/summer-music-series-the-brook-the-bluff-smithgall-arts-center/
LOCATION:The Arts Council Smithgall Arts Center\, 331 Spring Street SW\, Gainesville\, GA\, 30501\, United States
CATEGORIES:Arts,Downtown Events,Main Calendar
ATTACH;FMTTYPE=image/png:https://www.exploregainesville.org/wp-content/uploads/2026/04/Untitled-design-1.png
ORGANIZER;CN="The Arts Council":MAILTO:info@theartscouncil.net
END:VEVENT
END:VCALENDAR