BEGIN:VCALENDAR
VERSION:2.0
PRODID:-//Explore Gainesville - ECPv6.15.11//NONSGML v1.0//EN
CALSCALE:GREGORIAN
METHOD:PUBLISH
X-WR-CALNAME:Explore Gainesville
X-ORIGINAL-URL:https://www.exploregainesville.org
X-WR-CALDESC:Events for Explore Gainesville
REFRESH-INTERVAL;VALUE=DURATION:PT1H
X-Robots-Tag:noindex
X-PUBLISHED-TTL:PT1H
BEGIN:VTIMEZONE
TZID:America/New_York
BEGIN:DAYLIGHT
TZOFFSETFROM:-0500
TZOFFSETTO:-0400
TZNAME:EDT
DTSTART:20250309T070000
END:DAYLIGHT
BEGIN:STANDARD
TZOFFSETFROM:-0400
TZOFFSETTO:-0500
TZNAME:EST
DTSTART:20251102T060000
END:STANDARD
BEGIN:DAYLIGHT
TZOFFSETFROM:-0500
TZOFFSETTO:-0400
TZNAME:EDT
DTSTART:20260308T070000
END:DAYLIGHT
BEGIN:STANDARD
TZOFFSETFROM:-0400
TZOFFSETTO:-0500
TZNAME:EST
DTSTART:20261101T060000
END:STANDARD
BEGIN:DAYLIGHT
TZOFFSETFROM:-0500
TZOFFSETTO:-0400
TZNAME:EDT
DTSTART:20270314T070000
END:DAYLIGHT
BEGIN:STANDARD
TZOFFSETFROM:-0400
TZOFFSETTO:-0500
TZNAME:EST
DTSTART:20271107T060000
END:STANDARD
END:VTIMEZONE
BEGIN:VEVENT
DTSTART;TZID=America/New_York:20260418T200000
DTEND;TZID=America/New_York:20260418T220000
DTSTAMP:20260424T084421
CREATED:20260128T200515Z
LAST-MODIFIED:20260128T200515Z
UID:10012927-1776542400-1776549600@www.exploregainesville.org
SUMMARY:Jazz at the Movies - Smithgall Arts Center
DESCRIPTION:Russian-born pianist /composer Misha Stefanuk brings a string quartet and rhythm section together to celebrate jazz music performances found in the soundtracks of American cinema. As a distinguished jazz and classical pianist\, organist\, composer\, author\, and music educator who began playing piano at age five and composing by age nine\, he received an extensive musical education in both Russia and the United States—studying at the Moscow Conservatory School\, Moscow College of Improvised Music\, Russian Academy of Music\, Belmont University\, Washington State University\, and Boston University \nNarration provided by Jazz Club Owner and Podcast Announcer Tamara Fuller. \nSeating is first come\, first serve. Gates open at 7:00pm\, concert starts at 8:00pm.
URL:https://www.exploregainesville.org/event/jazz-at-the-movies-smithgall-arts-center/2026-04-18/
LOCATION:The Arts Council Smithgall Arts Center\, 331 Spring Street SW\, Gainesville\, GA\, 30501\, United States
CATEGORIES:Arts,Downtown Events,Main Calendar
ATTACH;FMTTYPE=image/png:https://www.exploregainesville.org/wp-content/uploads/2026/01/Jazz-at-the-Movies-3.png
ORGANIZER;CN="The Arts Council":MAILTO:info@theartscouncil.net
END:VEVENT
BEGIN:VEVENT
DTSTART;TZID=America/New_York:20260417T200000
DTEND;TZID=America/New_York:20260417T220000
DTSTAMP:20260424T084421
CREATED:20260128T200515Z
LAST-MODIFIED:20260128T200515Z
UID:10012926-1776456000-1776463200@www.exploregainesville.org
SUMMARY:Jazz at the Movies - Smithgall Arts Center
DESCRIPTION:Russian-born pianist /composer Misha Stefanuk brings a string quartet and rhythm section together to celebrate jazz music performances found in the soundtracks of American cinema. As a distinguished jazz and classical pianist\, organist\, composer\, author\, and music educator who began playing piano at age five and composing by age nine\, he received an extensive musical education in both Russia and the United States—studying at the Moscow Conservatory School\, Moscow College of Improvised Music\, Russian Academy of Music\, Belmont University\, Washington State University\, and Boston University \nNarration provided by Jazz Club Owner and Podcast Announcer Tamara Fuller. \nSeating is first come\, first serve. Gates open at 7:00pm\, concert starts at 8:00pm.
URL:https://www.exploregainesville.org/event/jazz-at-the-movies-smithgall-arts-center/2026-04-17/
LOCATION:The Arts Council Smithgall Arts Center\, 331 Spring Street SW\, Gainesville\, GA\, 30501\, United States
CATEGORIES:Arts,Downtown Events,Main Calendar
ATTACH;FMTTYPE=image/png:https://www.exploregainesville.org/wp-content/uploads/2026/01/Jazz-at-the-Movies-3.png
ORGANIZER;CN="The Arts Council":MAILTO:info@theartscouncil.net
END:VEVENT
BEGIN:VEVENT
DTSTART;TZID=America/New_York:20260415T174500
DTEND;TZID=America/New_York:20260415T184500
DTSTAMP:20260424T084421
CREATED:20260307T142726Z
LAST-MODIFIED:20260307T142726Z
UID:10013037-1776275100-1776278700@www.exploregainesville.org
SUMMARY:Wellness Wednesdays - Smithgall Arts Center
DESCRIPTION:Wellness Wednesday – Yoga for a Cause!\nJoin Us Again for Wellness Wednesdays – A Serene 8 Week Yoga Series Supporting Brain Cancer Research \nStep into a space of tranquility and purpose with Wellness Wednesday—a rejuvenating outdoor yoga class dedicated to raising funds for brain cancer research with KMF. This is your chance to nourish your mind\, body\, and soul while making a meaningful impact in the fight against brain cancer. \nEvent Details:\nDates: Wednesdays\, April 1 – May 27\, 2026 (No class on April 22)\nTime: 5:45 – 6:45 PM (Rain or Shine)\nLocation: Smithgall Arts Center Pavilion\nGates open at 5:30 PM and close at 7:00 PM \nAbout the Class\nLed by experienced yoga instructor Becky Martin (E-RYT 200)\, Wellness Wednesday is designed for all levels\, ages 13 and up. Whether you’re a seasoned yogi or brand new to the practice\, this class offers a peaceful and uplifting experience\, all while supporting a great cause. \nWhy Join?\nSupport Brain Cancer Research – 100% of proceeds benefit the Knox Martin Foundation for Brain Cancer Research\, a local 501(c)(3) nonprofit advancing research and treatment.\nGuided Yoga Flow – A mindful\, breath-centered practice to restore balance and inner calm.\nSerene Outdoor Setting – Practice in nature’s beauty\, surrounded by fresh air and greenery.\nSunset Meditation – Reflect and recharge as the sun sets.\nCommunity Connection – After class\, enjoy refreshments and dinner at local venues while connecting with fellow participants. \nWhat to Bring\nYoga Mat or a comfortable blanket\nWater Bottle to stay hydrated\nWeather-Appropriate Attire (layers recommended)\nSmartphone for easy access to the liability waiver and donation via Venmo or QR code \nClass Fee & Registration\n$15 donation per class OR $90 for the full 8-week session ($10 per class) \nBy joining Wellness Wednesday\, you’re not just prioritizing your well-being—you’re contributing to life-saving research and giving someone else’s Knox a shot at a longer life. \nFor questions\, contact Becky Martin at becky@knoxmartinfoundation.org \nLet’s move\, breathe\, and make a difference together!
URL:https://www.exploregainesville.org/event/wellness-wednesdays-knox-martin-foundation/2026-04-15/
LOCATION:The Arts Council Smithgall Arts Center\, 331 Spring Street SW\, Gainesville\, GA\, 30501\, United States
CATEGORIES:Downtown Events,Main Calendar
ATTACH;FMTTYPE=image/png:https://www.exploregainesville.org/wp-content/uploads/2026/03/Wellness-Wednesday-Spring-Series.png
ORGANIZER;CN="Knox Martin Foundation for Brain Cancer Research":MAILTO:becky@knoxmartinfoundation.org
END:VEVENT
BEGIN:VEVENT
DTSTART;TZID=America/New_York:20260408T174500
DTEND;TZID=America/New_York:20260408T184500
DTSTAMP:20260424T084421
CREATED:20260307T142726Z
LAST-MODIFIED:20260307T142726Z
UID:10013036-1775670300-1775673900@www.exploregainesville.org
SUMMARY:Wellness Wednesdays - Smithgall Arts Center
DESCRIPTION:Wellness Wednesday – Yoga for a Cause!\nJoin Us Again for Wellness Wednesdays – A Serene 8 Week Yoga Series Supporting Brain Cancer Research \nStep into a space of tranquility and purpose with Wellness Wednesday—a rejuvenating outdoor yoga class dedicated to raising funds for brain cancer research with KMF. This is your chance to nourish your mind\, body\, and soul while making a meaningful impact in the fight against brain cancer. \nEvent Details:\nDates: Wednesdays\, April 1 – May 27\, 2026 (No class on April 22)\nTime: 5:45 – 6:45 PM (Rain or Shine)\nLocation: Smithgall Arts Center Pavilion\nGates open at 5:30 PM and close at 7:00 PM \nAbout the Class\nLed by experienced yoga instructor Becky Martin (E-RYT 200)\, Wellness Wednesday is designed for all levels\, ages 13 and up. Whether you’re a seasoned yogi or brand new to the practice\, this class offers a peaceful and uplifting experience\, all while supporting a great cause. \nWhy Join?\nSupport Brain Cancer Research – 100% of proceeds benefit the Knox Martin Foundation for Brain Cancer Research\, a local 501(c)(3) nonprofit advancing research and treatment.\nGuided Yoga Flow – A mindful\, breath-centered practice to restore balance and inner calm.\nSerene Outdoor Setting – Practice in nature’s beauty\, surrounded by fresh air and greenery.\nSunset Meditation – Reflect and recharge as the sun sets.\nCommunity Connection – After class\, enjoy refreshments and dinner at local venues while connecting with fellow participants. \nWhat to Bring\nYoga Mat or a comfortable blanket\nWater Bottle to stay hydrated\nWeather-Appropriate Attire (layers recommended)\nSmartphone for easy access to the liability waiver and donation via Venmo or QR code \nClass Fee & Registration\n$15 donation per class OR $90 for the full 8-week session ($10 per class) \nBy joining Wellness Wednesday\, you’re not just prioritizing your well-being—you’re contributing to life-saving research and giving someone else’s Knox a shot at a longer life. \nFor questions\, contact Becky Martin at becky@knoxmartinfoundation.org \nLet’s move\, breathe\, and make a difference together!
URL:https://www.exploregainesville.org/event/wellness-wednesdays-knox-martin-foundation/2026-04-08/
LOCATION:The Arts Council Smithgall Arts Center\, 331 Spring Street SW\, Gainesville\, GA\, 30501\, United States
CATEGORIES:Downtown Events,Main Calendar
ATTACH;FMTTYPE=image/png:https://www.exploregainesville.org/wp-content/uploads/2026/03/Wellness-Wednesday-Spring-Series.png
ORGANIZER;CN="Knox Martin Foundation for Brain Cancer Research":MAILTO:becky@knoxmartinfoundation.org
END:VEVENT
BEGIN:VEVENT
DTSTART;TZID=America/New_York:20260401T174500
DTEND;TZID=America/New_York:20260401T184500
DTSTAMP:20260424T084421
CREATED:20260307T142726Z
LAST-MODIFIED:20260307T142726Z
UID:10013035-1775065500-1775069100@www.exploregainesville.org
SUMMARY:Wellness Wednesdays - Smithgall Arts Center
DESCRIPTION:Wellness Wednesday – Yoga for a Cause!\nJoin Us Again for Wellness Wednesdays – A Serene 8 Week Yoga Series Supporting Brain Cancer Research \nStep into a space of tranquility and purpose with Wellness Wednesday—a rejuvenating outdoor yoga class dedicated to raising funds for brain cancer research with KMF. This is your chance to nourish your mind\, body\, and soul while making a meaningful impact in the fight against brain cancer. \nEvent Details:\nDates: Wednesdays\, April 1 – May 27\, 2026 (No class on April 22)\nTime: 5:45 – 6:45 PM (Rain or Shine)\nLocation: Smithgall Arts Center Pavilion\nGates open at 5:30 PM and close at 7:00 PM \nAbout the Class\nLed by experienced yoga instructor Becky Martin (E-RYT 200)\, Wellness Wednesday is designed for all levels\, ages 13 and up. Whether you’re a seasoned yogi or brand new to the practice\, this class offers a peaceful and uplifting experience\, all while supporting a great cause. \nWhy Join?\nSupport Brain Cancer Research – 100% of proceeds benefit the Knox Martin Foundation for Brain Cancer Research\, a local 501(c)(3) nonprofit advancing research and treatment.\nGuided Yoga Flow – A mindful\, breath-centered practice to restore balance and inner calm.\nSerene Outdoor Setting – Practice in nature’s beauty\, surrounded by fresh air and greenery.\nSunset Meditation – Reflect and recharge as the sun sets.\nCommunity Connection – After class\, enjoy refreshments and dinner at local venues while connecting with fellow participants. \nWhat to Bring\nYoga Mat or a comfortable blanket\nWater Bottle to stay hydrated\nWeather-Appropriate Attire (layers recommended)\nSmartphone for easy access to the liability waiver and donation via Venmo or QR code \nClass Fee & Registration\n$15 donation per class OR $90 for the full 8-week session ($10 per class) \nBy joining Wellness Wednesday\, you’re not just prioritizing your well-being—you’re contributing to life-saving research and giving someone else’s Knox a shot at a longer life. \nFor questions\, contact Becky Martin at becky@knoxmartinfoundation.org \nLet’s move\, breathe\, and make a difference together!
URL:https://www.exploregainesville.org/event/wellness-wednesdays-knox-martin-foundation/2026-04-01/
LOCATION:The Arts Council Smithgall Arts Center\, 331 Spring Street SW\, Gainesville\, GA\, 30501\, United States
CATEGORIES:Downtown Events,Main Calendar
ATTACH;FMTTYPE=image/png:https://www.exploregainesville.org/wp-content/uploads/2026/03/Wellness-Wednesday-Spring-Series.png
ORGANIZER;CN="Knox Martin Foundation for Brain Cancer Research":MAILTO:becky@knoxmartinfoundation.org
END:VEVENT
BEGIN:VEVENT
DTSTART;TZID=America/New_York:20260321T200000
DTEND;TZID=America/New_York:20260321T220000
DTSTAMP:20260424T084421
CREATED:20260128T204451Z
LAST-MODIFIED:20260128T204451Z
UID:10012925-1774123200-1774130400@www.exploregainesville.org
SUMMARY:Sammy Hanson Quartet - Smithgall Arts Center
DESCRIPTION:Sammy Hanson is considered by most to be the most promising young jazz pianist in the Atlanta area\, and a dynamic musician whose artistry shines through in every improvised note. With a Bachelor’s degree in Jazz Performance from Florida State University\, he brings over 18 years of musical experience to the stage—garnering acclaim in prestigious competitions like the Savannah Swing Central Jazz Festival\, Essentially Ellington at Lincoln Center\, and the Jack Rudin Jazz Championship\, and enchanting audiences at Carnegie Hall and even the U.S. Embassy in Costa Rica. Now based in Atlanta\, The Sammy Hanson Quartet just released his 2025 debut album\, which captures the spontaneity and emotion of live performance—each track a fresh\, unforgettable moment of musical discovery. \nSeating is first come\, first serve. Gates open at 7:00pm\, concert starts at 8:00pm.
URL:https://www.exploregainesville.org/event/evenings-of-intimate-jazz-sammy-hanson-quartet-smithgall-arts-center/2026-03-21/
LOCATION:The Arts Council Smithgall Arts Center\, 331 Spring Street SW\, Gainesville\, GA\, 30501\, United States
CATEGORIES:Arts,Downtown Events,Main Calendar
ATTACH;FMTTYPE=image/png:https://www.exploregainesville.org/wp-content/uploads/2026/01/Sammy-Hanson-Quartet.png
ORGANIZER;CN="The Arts Council":MAILTO:info@theartscouncil.net
END:VEVENT
BEGIN:VEVENT
DTSTART;TZID=America/New_York:20260320T200000
DTEND;TZID=America/New_York:20260320T220000
DTSTAMP:20260424T084421
CREATED:20260128T204451Z
LAST-MODIFIED:20260128T204451Z
UID:10012924-1774036800-1774044000@www.exploregainesville.org
SUMMARY:Sammy Hanson Quartet - Smithgall Arts Center
DESCRIPTION:Sammy Hanson is considered by most to be the most promising young jazz pianist in the Atlanta area\, and a dynamic musician whose artistry shines through in every improvised note. With a Bachelor’s degree in Jazz Performance from Florida State University\, he brings over 18 years of musical experience to the stage—garnering acclaim in prestigious competitions like the Savannah Swing Central Jazz Festival\, Essentially Ellington at Lincoln Center\, and the Jack Rudin Jazz Championship\, and enchanting audiences at Carnegie Hall and even the U.S. Embassy in Costa Rica. Now based in Atlanta\, The Sammy Hanson Quartet just released his 2025 debut album\, which captures the spontaneity and emotion of live performance—each track a fresh\, unforgettable moment of musical discovery. \nSeating is first come\, first serve. Gates open at 7:00pm\, concert starts at 8:00pm.
URL:https://www.exploregainesville.org/event/evenings-of-intimate-jazz-sammy-hanson-quartet-smithgall-arts-center/2026-03-20/
LOCATION:The Arts Council Smithgall Arts Center\, 331 Spring Street SW\, Gainesville\, GA\, 30501\, United States
CATEGORIES:Arts,Downtown Events,Main Calendar
ATTACH;FMTTYPE=image/png:https://www.exploregainesville.org/wp-content/uploads/2026/01/Sammy-Hanson-Quartet.png
ORGANIZER;CN="The Arts Council":MAILTO:info@theartscouncil.net
END:VEVENT
BEGIN:VEVENT
DTSTART;TZID=America/New_York:20260212T170000
DTEND;TZID=America/New_York:20260212T190000
DTSTAMP:20260424T084421
CREATED:20260107T154301Z
LAST-MODIFIED:20260107T154301Z
UID:10012457-1770915600-1770922800@www.exploregainesville.org
SUMMARY:Sip & Support: Wine Tasting Fundraiser - The Arts Council
DESCRIPTION:Join The Arts Council for an unforgettable evening of fine wines\, gourmet bites\, and community spirit at the Sip & Support Wine Tasting Fundraiser! Savor a curated selection of exquisite wines paired with delicious culinary delights from local chefs\, all while supporting the vibrant arts scene in our community. Your participation helps educate\, engage\, and create programming that brings our Northeast Georgia Partners together to build community through the arts. Don’t miss this chance to indulge in great wine for a great cause—reserve your tickets today!
URL:https://www.exploregainesville.org/event/sip-support-wine-tasting-fundraiser-the-arts-council/
LOCATION:The Arts Council Smithgall Arts Center\, 331 Spring Street SW\, Gainesville\, GA\, 30501\, United States
CATEGORIES:Arts,Downtown Events,Main Calendar
ORGANIZER;CN="The Arts Council":MAILTO:info@theartscouncil.net
END:VEVENT
BEGIN:VEVENT
DTSTART;TZID=America/New_York:20260203T170000
DTEND;TZID=America/New_York:20260203T190000
DTSTAMP:20260424T084421
CREATED:20260128T195345Z
LAST-MODIFIED:20260128T200330Z
UID:10012928-1770138000-1770145200@www.exploregainesville.org
SUMMARY:Artist Talk & Book Signing with Lee Anne White - Smithgall Arts Center
DESCRIPTION:Hear from Lee Anne White about her exhibit Deeply Rooted: An Intimate Portrait of Place and Breathing with the Moon\, a photography book. \nBreathing with the Moon was photographed among the southernmost of the Sea Islands\, along Florida’s northernmost Atlantic Coast. What began as an exploration of place evolved into a meditation on time—history\, observable change and the natural rhythms that shape our experience of time. Key among those rhythms is the tide\, whose ebb and flow is most affected by the pull of the moon and which not only influences the life of plants\, animals and humans\, but continuously reshapes the islands themselves. \nLee Anne White is a photographer and writer whose work is rooted in the landscape—the terrain\, what grows there\, the history of the land and our connection to place.
URL:https://www.exploregainesville.org/event/artist-talk-book-signing-with-lee-anne-white-the-arts-council/
LOCATION:The Arts Council Smithgall Arts Center\, 331 Spring Street SW\, Gainesville\, GA\, 30501\, United States
CATEGORIES:Arts,Downtown Events,Main Calendar
ORGANIZER;CN="The Arts Council":MAILTO:info@theartscouncil.net
END:VEVENT
BEGIN:VEVENT
DTSTART;TZID=America/New_York:20260117T200000
DTEND;TZID=America/New_York:20260117T220000
DTSTAMP:20260424T084421
CREATED:20251022T185016Z
LAST-MODIFIED:20251022T185103Z
UID:10011757-1768680000-1768687200@www.exploregainesville.org
SUMMARY:Evenings of Intimate Jazz: Roman Street - Smithgall Arts Center
DESCRIPTION:Get ready for an unforgettable evening as the Roman Street quartet brings their electrifying blend of Nuevo Flamenco\, smooth jazz\, and acoustic world fusion to the stage—transporting audiences with fiery guitar duets\, irresistible rhythms\, and an atmosphere that feels both exotic and intimate. Whether you’re a longtime fan or discovering them for the first time\, this performance promises to be a soul-stirring journey you won’t want to miss! \nSeating is first come\, first serve. Gates open at 7:00pm\, concert starts at 8:00pm.
URL:https://www.exploregainesville.org/event/evenings-of-intimate-jazz-roman-street-smithgall-arts-center/2026-01-17/
LOCATION:The Arts Council Smithgall Arts Center\, 331 Spring Street SW\, Gainesville\, GA\, 30501\, United States
CATEGORIES:Arts,Downtown Events,Main Calendar
ORGANIZER;CN="The Arts Council":MAILTO:info@theartscouncil.net
END:VEVENT
BEGIN:VEVENT
DTSTART;TZID=America/New_York:20260116T200000
DTEND;TZID=America/New_York:20260116T220000
DTSTAMP:20260424T084421
CREATED:20251022T185016Z
LAST-MODIFIED:20251022T185103Z
UID:10011756-1768593600-1768600800@www.exploregainesville.org
SUMMARY:Evenings of Intimate Jazz: Roman Street - Smithgall Arts Center
DESCRIPTION:Get ready for an unforgettable evening as the Roman Street quartet brings their electrifying blend of Nuevo Flamenco\, smooth jazz\, and acoustic world fusion to the stage—transporting audiences with fiery guitar duets\, irresistible rhythms\, and an atmosphere that feels both exotic and intimate. Whether you’re a longtime fan or discovering them for the first time\, this performance promises to be a soul-stirring journey you won’t want to miss! \nSeating is first come\, first serve. Gates open at 7:00pm\, concert starts at 8:00pm.
URL:https://www.exploregainesville.org/event/evenings-of-intimate-jazz-roman-street-smithgall-arts-center/2026-01-16/
LOCATION:The Arts Council Smithgall Arts Center\, 331 Spring Street SW\, Gainesville\, GA\, 30501\, United States
CATEGORIES:Arts,Downtown Events,Main Calendar
ORGANIZER;CN="The Arts Council":MAILTO:info@theartscouncil.net
END:VEVENT
END:VCALENDAR