BEGIN:VCALENDAR
VERSION:2.0
PRODID:-//Explore Gainesville - ECPv6.15.11//NONSGML v1.0//EN
CALSCALE:GREGORIAN
METHOD:PUBLISH
X-WR-CALNAME:Explore Gainesville
X-ORIGINAL-URL:https://www.exploregainesville.org
X-WR-CALDESC:Events for Explore Gainesville
REFRESH-INTERVAL;VALUE=DURATION:PT1H
X-Robots-Tag:noindex
X-PUBLISHED-TTL:PT1H
BEGIN:VTIMEZONE
TZID:America/New_York
BEGIN:DAYLIGHT
TZOFFSETFROM:-0500
TZOFFSETTO:-0400
TZNAME:EDT
DTSTART:20250309T070000
END:DAYLIGHT
BEGIN:STANDARD
TZOFFSETFROM:-0400
TZOFFSETTO:-0500
TZNAME:EST
DTSTART:20251102T060000
END:STANDARD
BEGIN:DAYLIGHT
TZOFFSETFROM:-0500
TZOFFSETTO:-0400
TZNAME:EDT
DTSTART:20260308T070000
END:DAYLIGHT
BEGIN:STANDARD
TZOFFSETFROM:-0400
TZOFFSETTO:-0500
TZNAME:EST
DTSTART:20261101T060000
END:STANDARD
BEGIN:DAYLIGHT
TZOFFSETFROM:-0500
TZOFFSETTO:-0400
TZNAME:EDT
DTSTART:20270314T070000
END:DAYLIGHT
BEGIN:STANDARD
TZOFFSETFROM:-0400
TZOFFSETTO:-0500
TZNAME:EST
DTSTART:20271107T060000
END:STANDARD
END:VTIMEZONE
BEGIN:VEVENT
DTSTART;VALUE=DATE:20260601
DTEND;VALUE=DATE:20260606
DTSTAMP:20260424T160049
CREATED:20260410T140337Z
LAST-MODIFIED:20260410T140822Z
UID:10013099-1780272000-1780703999@www.exploregainesville.org
SUMMARY:Summer Tennis Camp: Week 1 - Brenau University
DESCRIPTION:The Brenau tennis camp is open to beginner\, intermediate and advanced players.\nT-shirt included. \nDaily schedule:\n8:45am-9:00am: camp drop off;\n9:00-9:15am: stroke of the day (demonstration);\n9:15-11:15am: tennis drills and rotations;\n11:15am-12:00pm: tennis games and point play;\n*12:00pm: camp pick up (half day campers*);\n12:00-1:00pm: lunch (provided by the camp for full-day participants);\n1:00-1:15pm: technique/strategy discussion;\n1:15-3:00pm: singles and doubles match play (on court coaching);\n3:00-3:15pm: camp pick up (full-day campers).
URL:https://www.exploregainesville.org/event/summer-tennis-camp-week-1-brenau/
LOCATION:Lessie Smithgall Tennis Center\, 100 Smithgall Ln\, Gainesville\, GA\, 30501\, United States
CATEGORIES:Main Calendar
ATTACH;FMTTYPE=image/png:https://www.exploregainesville.org/wp-content/uploads/2026/04/Brenau_University_logo.png
END:VEVENT
BEGIN:VEVENT
DTSTART;VALUE=DATE:20260706
DTEND;VALUE=DATE:20260711
DTSTAMP:20260424T160049
CREATED:20260410T140657Z
LAST-MODIFIED:20260410T140725Z
UID:10013100-1783296000-1783727999@www.exploregainesville.org
SUMMARY:Summer Tennis Camp: Week 3 - Brenau University
DESCRIPTION:Ages 6-17\nThe Brenau tennis camp is open to beginner\, intermediate and advanced players.\nT-shirt included. \nDaily schedule:\n8:45am-9:00am: camp drop off;\n9:00-9:15am: stroke of the day (demonstration);\n9:15-11:15am: tennis drills and rotations;\n11:15am-12:00pm: tennis games and point play;\n*12:00pm: camp pick up (half day campers*);\n12:00-1:00pm: lunch (provided by the camp for full-day participants);\n1:00-1:15pm: technique/strategy discussion;\n1:15-3:00pm: singles and doubles match play (on court coaching);\n3:00-3:15pm: camp pick up (full-day campers).
URL:https://www.exploregainesville.org/event/summer-tennis-camp-week-3-brenau-university/
LOCATION:Lessie Smithgall Tennis Center\, 100 Smithgall Ln\, Gainesville\, GA\, 30501\, United States
CATEGORIES:Main Calendar
ATTACH;FMTTYPE=image/png:https://www.exploregainesville.org/wp-content/uploads/2026/04/Brenau_University_logo.png
END:VEVENT
END:VCALENDAR