BEGIN:VCALENDAR
VERSION:2.0
PRODID:-//Explore Gainesville - ECPv6.15.11//NONSGML v1.0//EN
CALSCALE:GREGORIAN
METHOD:PUBLISH
X-WR-CALNAME:Explore Gainesville
X-ORIGINAL-URL:https://www.exploregainesville.org
X-WR-CALDESC:Events for Explore Gainesville
REFRESH-INTERVAL;VALUE=DURATION:PT1H
X-Robots-Tag:noindex
X-PUBLISHED-TTL:PT1H
BEGIN:VTIMEZONE
TZID:America/New_York
BEGIN:DAYLIGHT
TZOFFSETFROM:-0500
TZOFFSETTO:-0400
TZNAME:EDT
DTSTART:20240310T070000
END:DAYLIGHT
BEGIN:STANDARD
TZOFFSETFROM:-0400
TZOFFSETTO:-0500
TZNAME:EST
DTSTART:20241103T060000
END:STANDARD
BEGIN:DAYLIGHT
TZOFFSETFROM:-0500
TZOFFSETTO:-0400
TZNAME:EDT
DTSTART:20250309T070000
END:DAYLIGHT
BEGIN:STANDARD
TZOFFSETFROM:-0400
TZOFFSETTO:-0500
TZNAME:EST
DTSTART:20251102T060000
END:STANDARD
BEGIN:DAYLIGHT
TZOFFSETFROM:-0500
TZOFFSETTO:-0400
TZNAME:EDT
DTSTART:20260308T070000
END:DAYLIGHT
BEGIN:STANDARD
TZOFFSETFROM:-0400
TZOFFSETTO:-0500
TZNAME:EST
DTSTART:20261101T060000
END:STANDARD
END:VTIMEZONE
BEGIN:VEVENT
DTSTART;TZID=America/New_York:20251025T090000
DTEND;TZID=America/New_York:20251025T150000
DTSTAMP:20260425T110838
CREATED:20241007T141407Z
LAST-MODIFIED:20250911T180439Z
UID:10009241-1761382800-1761404400@www.exploregainesville.org
SUMMARY:Fall Fly-In - Lee Gilmer Memorial Airport
DESCRIPTION:Join us at Lee Gilmer Memorial Airport for the 3rd annual EAA Chapter 611 Fall Fly-In! \nThis event is open to the public! Come and enjoy: \n\nPancake Breakfast\nFood Trucks\nLive Music\nAnd Airplanes!\n\nFor more information\, please contact Airport Manager Lisa Poole: 770-538-2470
URL:https://www.exploregainesville.org/event/fall-fly-in-lee-gilmer-memorial-airport/
LOCATION:Lee Gilmer Memorial Airport\, 1137 Aviation Way\, Gainesville\, GA\, 30501\, United States
CATEGORIES:Main Calendar,Welcome Center
ATTACH;FMTTYPE=image/jpeg:https://www.exploregainesville.org/wp-content/uploads/2024/10/545386057_1224729539698036_921835603710897890_n.jpg
END:VEVENT
END:VCALENDAR