BEGIN:VCALENDAR
VERSION:2.0
PRODID:-//Explore Gainesville - ECPv6.15.11//NONSGML v1.0//EN
CALSCALE:GREGORIAN
METHOD:PUBLISH
X-ORIGINAL-URL:https://www.exploregainesville.org
X-WR-CALDESC:Events for Explore Gainesville
REFRESH-INTERVAL;VALUE=DURATION:PT1H
X-Robots-Tag:noindex
X-PUBLISHED-TTL:PT1H
BEGIN:VTIMEZONE
TZID:America/New_York
BEGIN:DAYLIGHT
TZOFFSETFROM:-0500
TZOFFSETTO:-0400
TZNAME:EDT
DTSTART:20250309T070000
END:DAYLIGHT
BEGIN:STANDARD
TZOFFSETFROM:-0400
TZOFFSETTO:-0500
TZNAME:EST
DTSTART:20251102T060000
END:STANDARD
BEGIN:DAYLIGHT
TZOFFSETFROM:-0500
TZOFFSETTO:-0400
TZNAME:EDT
DTSTART:20260308T070000
END:DAYLIGHT
BEGIN:STANDARD
TZOFFSETFROM:-0400
TZOFFSETTO:-0500
TZNAME:EST
DTSTART:20261101T060000
END:STANDARD
BEGIN:DAYLIGHT
TZOFFSETFROM:-0500
TZOFFSETTO:-0400
TZNAME:EDT
DTSTART:20270314T070000
END:DAYLIGHT
BEGIN:STANDARD
TZOFFSETFROM:-0400
TZOFFSETTO:-0500
TZNAME:EST
DTSTART:20271107T060000
END:STANDARD
END:VTIMEZONE
BEGIN:VEVENT
DTSTART;TZID=America/New_York:20260425T200000
DTEND;TZID=America/New_York:20260425T213000
DTSTAMP:20260422T102439
CREATED:20260410T144938Z
LAST-MODIFIED:20260410T145156Z
UID:10013104-1777147200-1777152600@www.exploregainesville.org
SUMMARY:Die Laughing Comedy - Blue Door
DESCRIPTION:Experience a live comedy show in Gainesville\, GA that delivers real laughs and a real party. Die Laughing Comedy transforms The Blue Door nightclub into a full-scale comedy club for one unforgettable night. Featuring touring comedians and comedy club regulars\, this show brings the best stand-up comedy to Gainesville’s nightlife scene. \nThis isn’t just another night out — it’s a professional comedy show in a nightclub setting\, followed by a full night of music and dancing. Your ticket includes free entry to The Blue Door after the comedy show\, so you can laugh hard\, stay late\, and skip the cover charge. \nExpect high-energy performances\, sharp jokes\, and top-tier talent — the kind of comics who crush in major cities and are now lighting up Gainesville’s comedy scene. Whether you’re a fan of stand-up comedy\, looking for a fun date night\, or just need a reason to get out of the house\, this is the Gainesville comedy event you don’t want to miss.
URL:https://www.exploregainesville.org/event/die-laughing-comedy-at-blue-door-2/
LOCATION:Blue Door\, 107 Bradford St NE\, Gainesville\, GA\, 30501\, United States
CATEGORIES:Downtown Events,Main Street Events
ATTACH;FMTTYPE=image/png:https://www.exploregainesville.org/wp-content/uploads/2026/04/Untitled-design-54.png
END:VEVENT
END:VCALENDAR