BEGIN:VCALENDAR
VERSION:2.0
PRODID:-//Explore Gainesville - ECPv6.15.11//NONSGML v1.0//EN
CALSCALE:GREGORIAN
METHOD:PUBLISH
X-WR-CALNAME:Explore Gainesville
X-ORIGINAL-URL:https://www.exploregainesville.org
X-WR-CALDESC:Events for Explore Gainesville
REFRESH-INTERVAL;VALUE=DURATION:PT1H
X-Robots-Tag:noindex
X-PUBLISHED-TTL:PT1H
BEGIN:VTIMEZONE
TZID:America/New_York
BEGIN:DAYLIGHT
TZOFFSETFROM:-0500
TZOFFSETTO:-0400
TZNAME:EDT
DTSTART:20250309T070000
END:DAYLIGHT
BEGIN:STANDARD
TZOFFSETFROM:-0400
TZOFFSETTO:-0500
TZNAME:EST
DTSTART:20251102T060000
END:STANDARD
BEGIN:DAYLIGHT
TZOFFSETFROM:-0500
TZOFFSETTO:-0400
TZNAME:EDT
DTSTART:20260308T070000
END:DAYLIGHT
BEGIN:STANDARD
TZOFFSETFROM:-0400
TZOFFSETTO:-0500
TZNAME:EST
DTSTART:20261101T060000
END:STANDARD
BEGIN:DAYLIGHT
TZOFFSETFROM:-0500
TZOFFSETTO:-0400
TZNAME:EDT
DTSTART:20270314T070000
END:DAYLIGHT
BEGIN:STANDARD
TZOFFSETFROM:-0400
TZOFFSETTO:-0500
TZNAME:EST
DTSTART:20271107T060000
END:STANDARD
END:VTIMEZONE
BEGIN:VEVENT
DTSTART;TZID=America/New_York:20260501T193000
DTEND;TZID=America/New_York:20260501T223000
DTSTAMP:20260419T113315
CREATED:20260210T175016Z
LAST-MODIFIED:20260210T175016Z
UID:10012958-1777663800-1777674600@www.exploregainesville.org
SUMMARY:Priscilla Block - The Hall at Bourbon Brothers
DESCRIPTION:Priscilla Block is one country’s boldest and most unapologetic breakout voices\, cultivating a fiercely loyal fanbase of more than 5 million who have grown to adore her unfiltered storytelling and catchy\, confessional hooks that turn pain into empowerment. Her sophomore album\, Things You Didn’t See (10.10 via MCA) offers a unique\, mature perspective of the cost of always being “on” — the anxiety\, the burnout\, the pressure\, and everything that bubbles beneath the shiny surface of fame. Across 14 tracks\, Things You Didn’t See is an invitation to know Block on the most personal level\, and it has been praised by The New York Times\, The Recording Academy\, the TODAY Show\, and more. \nBlock has achieved success on the iTunes All-Genre and Country charts with her PLATINUM-certified track “Just About Over You\,” and notched her first No. 1 hit at country radio with her Justin Moore duet “You\, Me\, And Whiskey” in 2023. She’s earned more than 700 million global career streams and has made appearances on The Kelly Clarkson Show\, The Tamron Hall Show\, The Ellen DeGeneres Show\, and more. Her debut album\, Welcome to the Block Party\, received recognition from The New York Times (“Best Albums of 2022″)\, CMT (“Breakthrough Video of the Year”)\, and the Academy of Country Music (“New Female Artist of the Year” nomination)\, among others. Block has opened for Shania Twain\, Jon Pardi\, Old Dominion and Cole Swindell. Block kicks off her headlining Things You Didn’t See Tour this Fall\, followed by a Spring leg that will include stops in Nashville\, Houston\, San Diego\, and more. For more information\, visit priscillablock.com/tour.
URL:https://www.exploregainesville.org/event/priscilla-block-the-hall-at-bourbon-brothers/
LOCATION:The Hall at Bourbon Brothers\, 312 Jesse Jewell Pkwy\, Gainesville\, GA\, 30501\, United States
CATEGORIES:Downtown Events,Main Calendar
ATTACH;FMTTYPE=image/jpeg:https://www.exploregainesville.org/wp-content/uploads/2026/02/5-1-26-Screen.jpg
ORGANIZER;CN="The Hall at Bourbon Brothers":MAILTO:info@thehallga.com
END:VEVENT
BEGIN:VEVENT
DTSTART;TZID=America/New_York:20260512T193000
DTEND;TZID=America/New_York:20260512T213000
DTSTAMP:20260419T113315
CREATED:20260206T160038Z
LAST-MODIFIED:20260206T160038Z
UID:10012944-1778614200-1778621400@www.exploregainesville.org
SUMMARY:Buckcherry - The Hall at Bourbon Brothers
DESCRIPTION:Buckcherry has always been one of a kind—raw\, passionate\, and built for the stage. Over 22 years\, the band has defied the odds\, earning platinum and gold records\, hit songs\, and millions of fans worldwide by staying true to hard rock and delivering unforgettable live shows. \nTheir ninth album\, HELLBOUND\, marks that journey. Created during a time of global uncertainty\, the record captures both the chaos of the world and the personal drive that fuels the band. Reuniting with producer Marti Frederiksen\, Buckcherry delivers a dynamic mix of hard-hitting rockers\, mid-tempo anthems\, and emotionally charged tracks. Songs like “Hellbound\,” “No More Lies\,” and “The Way” reflect resilience and reflection\, while signature Buckcherry tracks like “So Hot\,” “5-4-3-2-1\,” and “Here I Come” bring the fire longtime fans love. \nThrough adversity\, Buckcherry continues to hit new highs—and HELLBOUND proves they’re still at the top of their game. We’ll see you at the rock show.
URL:https://www.exploregainesville.org/event/buckcherry-the-hall-at-bourbon-brothers/
LOCATION:The Hall at Bourbon Brothers\, 312 Jesse Jewell Pkwy\, Gainesville\, GA\, 30501\, United States
CATEGORIES:Downtown Events,Main Calendar
ATTACH;FMTTYPE=image/jpeg:https://www.exploregainesville.org/wp-content/uploads/2026/02/5-12-26-Screen.jpg
ORGANIZER;CN="The Hall at Bourbon Brothers":MAILTO:info@thehallga.com
END:VEVENT
BEGIN:VEVENT
DTSTART;TZID=America/New_York:20260514T193000
DTEND;TZID=America/New_York:20260514T220000
DTSTAMP:20260419T113315
CREATED:20260223T174331Z
LAST-MODIFIED:20260223T174347Z
UID:10012994-1778787000-1778796000@www.exploregainesville.org
SUMMARY:Creed Fisher - The Hall at Bourbon Brothers
DESCRIPTION:DOORS @ 6:00 PM | SHOW @ 7:30 PM \n“The odds were against me all along\, but I just wouldn’t go away.” All-American musician Creed Fisher is a storyteller\, hard worker\, and a rising Outlaw Country star from West Texas. With around half a billion streams on all distribution platforms\, and over 100 million views on YouTube alone\, Fisher’s raw\, unfiltered\, and unique sound blends traditional country with some modern elements. “A big part of my music is patriotic and for the working class.”
URL:https://www.exploregainesville.org/event/creed-fisher-live-music-the-hall/
LOCATION:The Hall at Bourbon Brothers\, 312 Jesse Jewell Pkwy\, Gainesville\, GA\, 30501\, United States
CATEGORIES:Downtown Events,Main Calendar
ATTACH;FMTTYPE=image/jpeg:https://www.exploregainesville.org/wp-content/uploads/2026/02/5-14-26-Screen.jpg
ORGANIZER;CN="The Hall at Bourbon Brothers":MAILTO:info@thehallga.com
END:VEVENT
BEGIN:VEVENT
DTSTART;TZID=America/New_York:20260515T193000
DTEND;TZID=America/New_York:20260515T220000
DTSTAMP:20260419T113315
CREATED:20260114T214215Z
LAST-MODIFIED:20260114T214215Z
UID:10012812-1778873400-1778882400@www.exploregainesville.org
SUMMARY:BlackHawk - The Hall at Bourbon Brothers
DESCRIPTION:For more than 20 years\, BlackHawk has been delivering their signature harmonies and unforgettable country hits\, selling over 7 million albums and earning a devoted fanbase. Founded by Henry Paul\, Van Stephenson\, and Dave Robbins\, the band blended country\, pop\, and Southern rock with smart songwriting and soaring vocals\, producing classics like “Goodbye Says It All\,” “Every Once in a While\,” and “I Sure Can Smell the Rain.” Even after Van Stephenson’s passing in 2001\, BlackHawk has continued to honor his legacy while creating new music and bringing their electrifying live performances to fans old and new. Get ready for an evening of timeless hits\, heartfelt storytelling\, and the harmony that has made BlackHawk one of country music’s most enduring acts.
URL:https://www.exploregainesville.org/event/blackhawk-the-hall-at-bourbon-brothers/
LOCATION:The Hall at Bourbon Brothers\, 312 Jesse Jewell Pkwy\, Gainesville\, GA\, 30501\, United States
CATEGORIES:Downtown Events,Main Calendar
ATTACH;FMTTYPE=image/jpeg:https://www.exploregainesville.org/wp-content/uploads/2026/01/5-15-26-Screen.jpg
ORGANIZER;CN="The Hall at Bourbon Brothers":MAILTO:info@thehallga.com
END:VEVENT
BEGIN:VEVENT
DTSTART;TZID=America/New_York:20260516T193000
DTEND;TZID=America/New_York:20260516T213000
DTSTAMP:20260419T113315
CREATED:20260210T181322Z
LAST-MODIFIED:20260210T181322Z
UID:10012959-1778959800-1778967000@www.exploregainesville.org
SUMMARY:Satisfaction: A Tribute to The Rolling Stones - The Hall at Bourbon Brothers
DESCRIPTION:This international touring tribute celebrates the music and legacy of the World’s Greatest Rock & Roll Band. A Billboard-recognized production with over 25 years on the road\, the band has delivered more than 4\,000 performances worldwide. Their resume spans top U.S. casinos\, performing arts centers\, concert halls\, fairs\, festivals\, and corporate events. Channeling the swagger\, sound\, and style of Mick Jagger\, Keith Richards\, and the rest of the Stones\, the show delivers an energetic and authentic journey through every classic era. The cast has been featured in dozens of national magazines\, newspapers\, and television programs and currently supports five touring productions worldwide!
URL:https://www.exploregainesville.org/event/satisfaction-a-tribute-to-the-rolling-stones-the-hall-at-bourbon-brothers/
LOCATION:The Hall at Bourbon Brothers\, 312 Jesse Jewell Pkwy\, Gainesville\, GA\, 30501\, United States
CATEGORIES:Downtown Events,Main Calendar
ATTACH;FMTTYPE=image/jpeg:https://www.exploregainesville.org/wp-content/uploads/2026/02/5-16-26-Screen.jpg
ORGANIZER;CN="The Hall at Bourbon Brothers":MAILTO:info@thehallga.com
END:VEVENT
END:VCALENDAR