BEGIN:VCALENDAR
VERSION:2.0
PRODID:-//Explore Gainesville - ECPv6.15.11//NONSGML v1.0//EN
CALSCALE:GREGORIAN
METHOD:PUBLISH
X-ORIGINAL-URL:https://www.exploregainesville.org
X-WR-CALDESC:Events for Explore Gainesville
REFRESH-INTERVAL;VALUE=DURATION:PT1H
X-Robots-Tag:noindex
X-PUBLISHED-TTL:PT1H
BEGIN:VTIMEZONE
TZID:America/New_York
BEGIN:DAYLIGHT
TZOFFSETFROM:-0500
TZOFFSETTO:-0400
TZNAME:EDT
DTSTART:20250309T070000
END:DAYLIGHT
BEGIN:STANDARD
TZOFFSETFROM:-0400
TZOFFSETTO:-0500
TZNAME:EST
DTSTART:20251102T060000
END:STANDARD
BEGIN:DAYLIGHT
TZOFFSETFROM:-0500
TZOFFSETTO:-0400
TZNAME:EDT
DTSTART:20260308T070000
END:DAYLIGHT
BEGIN:STANDARD
TZOFFSETFROM:-0400
TZOFFSETTO:-0500
TZNAME:EST
DTSTART:20261101T060000
END:STANDARD
BEGIN:DAYLIGHT
TZOFFSETFROM:-0500
TZOFFSETTO:-0400
TZNAME:EDT
DTSTART:20270314T070000
END:DAYLIGHT
BEGIN:STANDARD
TZOFFSETFROM:-0400
TZOFFSETTO:-0500
TZNAME:EST
DTSTART:20271107T060000
END:STANDARD
END:VTIMEZONE
BEGIN:VEVENT
DTSTART;TZID=America/New_York:20260301T193000
DTEND;TZID=America/New_York:20260301T213000
DTSTAMP:20260422T094652
CREATED:20260107T163033Z
LAST-MODIFIED:20260107T163033Z
UID:10012804-1772393400-1772400600@www.exploregainesville.org
SUMMARY:The Seven Wonders: A Tribute to Fleetwood Mac - The Hall at Bourbon Brothers
DESCRIPTION:The Seven Wonders are a stunning tribute to the music and legacy of Fleetwood Mac. They authentically recreate all the great hits of Fleetwood Mac\, including Dreams\, Go Your Own Way\, Rhiannon\, Landslide\, Gypsy\, and more. Replicating the sounds of one of the world’s best-loved\, top-selling bands\, The Seven Wonders reconnect fans with the music they love.
URL:https://www.exploregainesville.org/event/the-seven-wonders-a-tribute-to-fleetwood-mac-the-hall-at-bourbon-brothers/
LOCATION:The Hall at Bourbon Brothers\, 312 Jesse Jewell Pkwy\, Gainesville\, GA\, 30501\, United States
CATEGORIES:Downtown Events,Main Calendar
ATTACH;FMTTYPE=image/png:https://www.exploregainesville.org/wp-content/uploads/2026/01/Screen.png
ORGANIZER;CN="The Hall at Bourbon Brothers":MAILTO:info@thehallga.com
END:VEVENT
BEGIN:VEVENT
DTSTART;TZID=America/New_York:20260306T193000
DTEND;TZID=America/New_York:20260306T220000
DTSTAMP:20260422T094652
CREATED:20260306T194659Z
LAST-MODIFIED:20260306T194659Z
UID:10013031-1772825400-1772834400@www.exploregainesville.org
SUMMARY:Diamond Rio - The Hall at Bourbon Brothers
DESCRIPTION:DOORS @ 6:00 PM | SHOW @ 7:30 PM \nFormed in the ’80s as The Tennessee River Boys\, Diamond Rio emerged in 1989 and quickly made history. Their debut single\, “Meet in the Middle\,” became the first No. 1 debut by a country group. The band went on to deliver chart-topping hits including “How Your Love Makes Me Feel\,” “One More Day\,” “Beautiful Mess\,” “Unbelievable\,” and “I Believe.” \nWith over 6.8 million albums sold\, 1.05 billion global streams\, 20 Top 10 singles\, and seven No. 1s\, Diamond Rio is known for playing every note on every album. Their musicianship earned multiple Grammy nominations\, along with a Grammy win for The Reason. Members of the Grand Ole Opry and six-time Vocal Group of the Year winners\, the band is also recognized for raising over $1 million for charitable causes.
URL:https://www.exploregainesville.org/event/diamond-rio-the-hall-at-bourbon-brothers/
LOCATION:The Hall at Bourbon Brothers\, 312 Jesse Jewell Pkwy\, Gainesville\, GA\, 30501\, United States
CATEGORIES:Downtown Events,Main Calendar
ATTACH;FMTTYPE=image/jpeg:https://www.exploregainesville.org/wp-content/uploads/2026/02/3-6-26-Screen-copy.jpg
ORGANIZER;CN="The Hall at Bourbon Brothers":MAILTO:info@thehallga.com
END:VEVENT
BEGIN:VEVENT
DTSTART;TZID=America/New_York:20260313T193000
DTEND;TZID=America/New_York:20260313T213000
DTSTAMP:20260422T094652
CREATED:20260114T214016Z
LAST-MODIFIED:20260114T214016Z
UID:10012813-1773430200-1773437400@www.exploregainesville.org
SUMMARY:Taj Farrant - The Hall at Bourbon Brothers
DESCRIPTION:Taj Farrant is an Australian guitarist and musician who gained recognition at a young age through social media for his impressive guitar covers and original music. He’s performed at major festivals like Big Blues Bender\, Telluride’s Blues & Brew\, and Australia’s Bluesfest\, and has collaborated with artists such as Carlos Santana\, Buddy Guy\, and the Hendrix Experience team. \nNow on his debut album tour\, Chapter One\, Farrant showcases his eclectic style\, blending rock\, blues\, and pop. With captivating performances and heartfelt songwriting\, he’s solidifying his place in the music scene and promising a bright future.
URL:https://www.exploregainesville.org/event/taj-farrant-the-hall-at-bourbon-brothers/
LOCATION:The Hall at Bourbon Brothers\, 312 Jesse Jewell Pkwy\, Gainesville\, GA\, 30501\, United States
CATEGORIES:Downtown Events,Main Calendar
ATTACH;FMTTYPE=image/jpeg:https://www.exploregainesville.org/wp-content/uploads/2026/01/3-13-26-Screen.jpg
ORGANIZER;CN="The Hall at Bourbon Brothers":MAILTO:info@thehallga.com
END:VEVENT
BEGIN:VEVENT
DTSTART;TZID=America/New_York:20260314T193000
DTEND;TZID=America/New_York:20260314T220000
DTSTAMP:20260422T094652
CREATED:20260107T163528Z
LAST-MODIFIED:20260107T163528Z
UID:10012800-1773516600-1773525600@www.exploregainesville.org
SUMMARY:Genesis ReTouched: The Essence of Phil Collins - The Hall at Bourbon Brothers
DESCRIPTION:Genesis ReTouched brings you back to the Phil Collins era of Genesis at their peak\, recreating the sound and spectacle of the band’s legendary late ’80s–’00s tours. Hear iconic hits from Duke\, Abacab\, Invisible Touch\, We Can’t Dance\, and more—performed with precision\, pristine sound\, and dynamic lighting. From the music to the atmosphere\, Genesis ReTouched captures the energy and excitement of a classic Genesis concert\, honoring the legacy that shaped generations of live music fans.
URL:https://www.exploregainesville.org/event/genesis-retouched-the-essence-of-phil-collins-the-hall-at-bourbon-brothers/
LOCATION:The Hall at Bourbon Brothers\, 312 Jesse Jewell Pkwy\, Gainesville\, GA\, 30501\, United States
CATEGORIES:Main Calendar
ATTACH;FMTTYPE=image/jpeg:https://www.exploregainesville.org/wp-content/uploads/2026/01/3-14-26-Screen.jpg
ORGANIZER;CN="The Hall at Bourbon Brothers":MAILTO:info@thehallga.com
END:VEVENT
BEGIN:VEVENT
DTSTART;TZID=America/New_York:20260327T193000
DTEND;TZID=America/New_York:20260327T213000
DTSTAMP:20260422T094652
CREATED:20260128T202838Z
LAST-MODIFIED:20260128T202838Z
UID:10012918-1774639800-1774647000@www.exploregainesville.org
SUMMARY:Don't Be Cruel: An Elvis Tribute - The Hall at Bourbon Brothers
DESCRIPTION:Get ready for a night of unforgettable music with Don’t Be Cruel: An Elvis Tribute Show! Relive all the hits that made the King of Rock and Roll a legend—from the rebellious energy of Hound Dog and the rockabilly fun of Blue Suede Shoes\, to the soulful romance of Can’t Help Falling in Love and Love Me Tender. We’ll shake it up with Jailhouse Rock\, groove to All Shook Up\, feel the emotion of Suspicious Minds\, and rock out to Burning Love. \nSing\, dance\, and experience the magic of Elvis like never before—this is a show you won’t want to miss!
URL:https://www.exploregainesville.org/event/dont-be-cruel-an-elvis-tribute-the-hall-at-bourbon-brothers/
LOCATION:The Hall at Bourbon Brothers\, 312 Jesse Jewell Pkwy\, Gainesville\, GA\, 30501\, United States
CATEGORIES:Downtown Events,Main Calendar
ATTACH;FMTTYPE=image/jpeg:https://www.exploregainesville.org/wp-content/uploads/2026/01/3-27-26-Screen.jpg
ORGANIZER;CN="The Hall at Bourbon Brothers":MAILTO:info@thehallga.com
END:VEVENT
BEGIN:VEVENT
DTSTART;TZID=America/New_York:20260328T193000
DTEND;TZID=America/New_York:20260328T213000
DTSTAMP:20260422T094652
CREATED:20260128T203606Z
LAST-MODIFIED:20260128T203606Z
UID:10012917-1774726200-1774733400@www.exploregainesville.org
SUMMARY:To the Limit: A Tribute to the Eagles - The Hall at Bourbon Brothers
DESCRIPTION:Experience the iconic sound of the Eagles live with To the Limit\, a tribute honoring one of the most influential bands in American rock history. Known for their rich harmonies and unmistakable songwriting\, the Eagles’ music defined an era—and this show captures it with precision and care. \nCelebrate the 50th anniversary of Hotel California as To the Limit brings classics like “Hotel California\,” “Take It Easy\,” “Desperado\,” “Life in the Fast Lane\,” and more to life in a night built for longtime fans and classic rock lovers alike.
URL:https://www.exploregainesville.org/event/to-the-limit-a-tribute-to-the-eagles-the-hall-at-bourbon-brothers/
LOCATION:The Hall at Bourbon Brothers\, 312 Jesse Jewell Pkwy\, Gainesville\, GA\, 30501\, United States
CATEGORIES:Downtown Events,Main Calendar
ATTACH;FMTTYPE=image/jpeg:https://www.exploregainesville.org/wp-content/uploads/2026/01/3-28-26-Screen.jpg
ORGANIZER;CN="The Hall at Bourbon Brothers":MAILTO:info@thehallga.com
END:VEVENT
END:VCALENDAR