BEGIN:VCALENDAR
VERSION:2.0
PRODID:-//Explore Gainesville - ECPv6.15.11//NONSGML v1.0//EN
CALSCALE:GREGORIAN
METHOD:PUBLISH
X-ORIGINAL-URL:https://www.exploregainesville.org
X-WR-CALDESC:Events for Explore Gainesville
REFRESH-INTERVAL;VALUE=DURATION:PT1H
X-Robots-Tag:noindex
X-PUBLISHED-TTL:PT1H
BEGIN:VTIMEZONE
TZID:America/New_York
BEGIN:DAYLIGHT
TZOFFSETFROM:-0500
TZOFFSETTO:-0400
TZNAME:EDT
DTSTART:20250309T070000
END:DAYLIGHT
BEGIN:STANDARD
TZOFFSETFROM:-0400
TZOFFSETTO:-0500
TZNAME:EST
DTSTART:20251102T060000
END:STANDARD
BEGIN:DAYLIGHT
TZOFFSETFROM:-0500
TZOFFSETTO:-0400
TZNAME:EDT
DTSTART:20260308T070000
END:DAYLIGHT
BEGIN:STANDARD
TZOFFSETFROM:-0400
TZOFFSETTO:-0500
TZNAME:EST
DTSTART:20261101T060000
END:STANDARD
BEGIN:DAYLIGHT
TZOFFSETFROM:-0500
TZOFFSETTO:-0400
TZNAME:EDT
DTSTART:20270314T070000
END:DAYLIGHT
BEGIN:STANDARD
TZOFFSETFROM:-0400
TZOFFSETTO:-0500
TZNAME:EST
DTSTART:20271107T060000
END:STANDARD
END:VTIMEZONE
BEGIN:VEVENT
DTSTART;TZID=America/New_York:20260101T100000
DTEND;TZID=America/New_York:20260101T140000
DTSTAMP:20260423T190840
CREATED:20251212T210701Z
LAST-MODIFIED:20251212T210701Z
UID:10012425-1767261600-1767276000@www.exploregainesville.org
SUMMARY:2026 Polar Bear Plunge & Paddle - Lanier Canoe and Kayak Club
DESCRIPTION:Lanier Canoe and Kayak Club presents the 28th annual Polar Bear Plunge on January 1\, 2026! \nSay goodbye to 2026 and dive into the 2026 New Year at our 28th Annual Polar Bear Plunge. This annual event is a fund-raising activity for LCKC so join us for a unique experience on the lake! This event draws thrill seekers of all walks of life to plunge themselves into the cool waters of Lake Lanier\, to bring in 2026. Festivities begin at 10:00 a.m.\, paddle arrival at 10 a.m.\, plunge arrival 11:30 a.m. and will start at 12 pm on the LCKC docks. Hot chocolate and other refreshments available. We will also be having a 50/50 raffle. Come join us New Year’s Day for a great event and exciting auction items! Awards for best costume and best jump will be given! (IN ORDER TO GUARANTEE SHIRT SIZE\, YOU MUST REGISTER BY MIDNIGHT 12/15/25)
URL:https://www.exploregainesville.org/event/2026-polar-bear-plunge-paddle-lanier-canoe-and-kayak-club/
LOCATION:The Boathouse at Lake Lanier Olympic Park\, 3105 Clarks Bridge Road\, GAINESVILLE\, GA\, 30506\, United States
CATEGORIES:Main Calendar
ATTACH;FMTTYPE=image/png:https://www.exploregainesville.org/wp-content/uploads/2025/12/lckc-logo-2.png
END:VEVENT
END:VCALENDAR