BEGIN:VCALENDAR
VERSION:2.0
PRODID:-//Explore Gainesville - ECPv6.15.11//NONSGML v1.0//EN
CALSCALE:GREGORIAN
METHOD:PUBLISH
X-ORIGINAL-URL:https://www.exploregainesville.org
X-WR-CALDESC:Events for Explore Gainesville
REFRESH-INTERVAL;VALUE=DURATION:PT1H
X-Robots-Tag:noindex
X-PUBLISHED-TTL:PT1H
BEGIN:VTIMEZONE
TZID:America/New_York
BEGIN:DAYLIGHT
TZOFFSETFROM:-0500
TZOFFSETTO:-0400
TZNAME:EDT
DTSTART:20250309T070000
END:DAYLIGHT
BEGIN:STANDARD
TZOFFSETFROM:-0400
TZOFFSETTO:-0500
TZNAME:EST
DTSTART:20251102T060000
END:STANDARD
BEGIN:DAYLIGHT
TZOFFSETFROM:-0500
TZOFFSETTO:-0400
TZNAME:EDT
DTSTART:20260308T070000
END:DAYLIGHT
BEGIN:STANDARD
TZOFFSETFROM:-0400
TZOFFSETTO:-0500
TZNAME:EST
DTSTART:20261101T060000
END:STANDARD
BEGIN:DAYLIGHT
TZOFFSETFROM:-0500
TZOFFSETTO:-0400
TZNAME:EDT
DTSTART:20270314T070000
END:DAYLIGHT
BEGIN:STANDARD
TZOFFSETFROM:-0400
TZOFFSETTO:-0500
TZNAME:EST
DTSTART:20271107T060000
END:STANDARD
END:VTIMEZONE
BEGIN:VEVENT
DTSTART;TZID=America/New_York:20260503T160000
DTEND;TZID=America/New_York:20260503T170000
DTSTAMP:20260422T020741
CREATED:20260421T172525Z
LAST-MODIFIED:20260421T172613Z
UID:10013105-1777824000-1777827600@www.exploregainesville.org
SUMMARY:Spring Concert: From Stage to Screen - Believers Concert Band
DESCRIPTION:Believers Concert Band Spring Concert \nThe Believers Concert Band has a real treat for you! You are invited to experience the magic of musical storytelling in “FROM STAGE TO SCREEN” – an afternoon of celebrating songs that made the leap from the theater to the silver screen. Featuring music from iconic stage productions that became legendary films such as West Side Story\, Phantom of the Opera\, Grease\, the Sound of Music\, Fiddler on the Roof and more\, this program blends Broadway excitement with cinematic grandeur. \nPlease join us on May 3rd at 4pm at Gainesville First United Methodist Church! \nAddress: \n2780 Thompson Bridge Rd. \nGainesville\, GA 30506 \nFree admission.
URL:https://www.exploregainesville.org/event/from-stage-to-screen-believers-concert-band/
LOCATION:Gainesville First United Methodist Church\, 2780 Thompson Bridge Rd\, Gainesville\, GA\, 30506\, United States
CATEGORIES:Arts,Downtown Events,Main Calendar
ATTACH;FMTTYPE=image/png:https://www.exploregainesville.org/wp-content/uploads/2026/04/Untitled-design-56.png
ORGANIZER;CN="Believers Concert Band":MAILTO:believersband.com
END:VEVENT
END:VCALENDAR