BEGIN:VCALENDAR
VERSION:2.0
PRODID:-//Explore Gainesville - ECPv6.15.11//NONSGML v1.0//EN
CALSCALE:GREGORIAN
METHOD:PUBLISH
X-WR-CALNAME:Explore Gainesville
X-ORIGINAL-URL:https://www.exploregainesville.org
X-WR-CALDESC:Events for Explore Gainesville
REFRESH-INTERVAL;VALUE=DURATION:PT1H
X-Robots-Tag:noindex
X-PUBLISHED-TTL:PT1H
BEGIN:VTIMEZONE
TZID:America/New_York
BEGIN:DAYLIGHT
TZOFFSETFROM:-0500
TZOFFSETTO:-0400
TZNAME:EDT
DTSTART:20250309T070000
END:DAYLIGHT
BEGIN:STANDARD
TZOFFSETFROM:-0400
TZOFFSETTO:-0500
TZNAME:EST
DTSTART:20251102T060000
END:STANDARD
BEGIN:DAYLIGHT
TZOFFSETFROM:-0500
TZOFFSETTO:-0400
TZNAME:EDT
DTSTART:20260308T070000
END:DAYLIGHT
BEGIN:STANDARD
TZOFFSETFROM:-0400
TZOFFSETTO:-0500
TZNAME:EST
DTSTART:20261101T060000
END:STANDARD
BEGIN:DAYLIGHT
TZOFFSETFROM:-0500
TZOFFSETTO:-0400
TZNAME:EDT
DTSTART:20270314T070000
END:DAYLIGHT
BEGIN:STANDARD
TZOFFSETFROM:-0400
TZOFFSETTO:-0500
TZNAME:EST
DTSTART:20271107T060000
END:STANDARD
END:VTIMEZONE
BEGIN:VEVENT
DTSTART;TZID=America/New_York:20260618T093000
DTEND;TZID=America/New_York:20260618T120000
DTSTAMP:20260421T191419
CREATED:20260421T173414Z
LAST-MODIFIED:20260421T173414Z
UID:10013111-1781775000-1781784000@www.exploregainesville.org
SUMMARY:Serving Hope: 2nd Annual Tennis Clinic - My Sister's Place
DESCRIPTION:Join My Sister’s Place’s for their 2nd Annual Tennis Clinic\, Serving Hope—a fun and engaging event where every serve makes a difference! Whether you’re a seasoned player or just picking up a racket\, this clinic is a great way to improve your game while supporting women and children experiencing homelessness.
URL:https://www.exploregainesville.org/event/serving-hope-my-sisters-place/
LOCATION:Brenau University – Lessie Smithgall Tennis Facility\, 240 Smithgall Lane\, Gainesville\, GA 30501\, Gainesville\, 30501\, United States
CATEGORIES:Main Calendar
ATTACH;FMTTYPE=image/png:https://www.exploregainesville.org/wp-content/uploads/2026/04/Serving-Hope_Logo_FINAL-02-768x284-1.png
ORGANIZER;CN="My Sister's Place":MAILTO:info@my-sisters-place.org
END:VEVENT
END:VCALENDAR