BEGIN:VCALENDAR
VERSION:2.0
PRODID:-//Explore Gainesville - ECPv6.15.11//NONSGML v1.0//EN
CALSCALE:GREGORIAN
METHOD:PUBLISH
X-ORIGINAL-URL:https://www.exploregainesville.org
X-WR-CALDESC:Events for Explore Gainesville
REFRESH-INTERVAL;VALUE=DURATION:PT1H
X-Robots-Tag:noindex
X-PUBLISHED-TTL:PT1H
BEGIN:VTIMEZONE
TZID:America/New_York
BEGIN:DAYLIGHT
TZOFFSETFROM:-0500
TZOFFSETTO:-0400
TZNAME:EDT
DTSTART:20250309T070000
END:DAYLIGHT
BEGIN:STANDARD
TZOFFSETFROM:-0400
TZOFFSETTO:-0500
TZNAME:EST
DTSTART:20251102T060000
END:STANDARD
BEGIN:DAYLIGHT
TZOFFSETFROM:-0500
TZOFFSETTO:-0400
TZNAME:EDT
DTSTART:20260308T070000
END:DAYLIGHT
BEGIN:STANDARD
TZOFFSETFROM:-0400
TZOFFSETTO:-0500
TZNAME:EST
DTSTART:20261101T060000
END:STANDARD
BEGIN:DAYLIGHT
TZOFFSETFROM:-0500
TZOFFSETTO:-0400
TZNAME:EDT
DTSTART:20270314T070000
END:DAYLIGHT
BEGIN:STANDARD
TZOFFSETFROM:-0400
TZOFFSETTO:-0500
TZNAME:EST
DTSTART:20271107T060000
END:STANDARD
END:VTIMEZONE
BEGIN:VEVENT
DTSTART;TZID=America/New_York:20260609T130000
DTEND;TZID=America/New_York:20261031T153000
DTSTAMP:20260421T171827
CREATED:20260120T200434Z
LAST-MODIFIED:20260223T175637Z
UID:10012885-1781010000-1793460600@www.exploregainesville.org
SUMMARY:Hall County Farmers Market - Every Tuesday & Saturday
DESCRIPTION:Bring the whole family and enjoy a fun\, relaxed outing at the Hall County Farmers Market! Shop fresh\, locally grown produce\, baked goods\, and handmade items while kids and adults alike enjoy the friendly\, welcoming atmosphere. \nMeet local farmers and makers\, discover seasonal favorites\, and make it a weekly family tradition. \n🗓 Open weekly:\nSaturdays 9:00 AM – 12:00 PM\nTuesdays 1:00 PM – 3:00 PM \n📍 734 E Crescent Dr\, Gainesville\, GA \nFresh food\, local vendors\, and community fun for all ages!
URL:https://www.exploregainesville.org/event/hall-co-farmers-market-tuesday/
LOCATION:Hall County Farmers Market\, 734 East Crescent Drive\, Gainesville\, GA\, 30501\, United States
CATEGORIES:Main Calendar
ATTACH;FMTTYPE=image/png:https://www.exploregainesville.org/wp-content/uploads/2026/01/FB-Banner-Opening-2.png
ORGANIZER;CN="Hall County Farmers Market":MAILTO:hallcountyfarmersmarket.com
END:VEVENT
BEGIN:VEVENT
DTSTART;TZID=America/New_York:20260613T090000
DTEND;TZID=America/New_York:20261031T120000
DTSTAMP:20260421T171827
CREATED:20260122T192724Z
LAST-MODIFIED:20260223T175811Z
UID:10012840-1781341200-1793448000@www.exploregainesville.org
SUMMARY:Hall County Farmers Market - Every Tuesday & Saturday
DESCRIPTION:ROOTED IN COMMUNITY\, GROWN WITH LOVE! \nBring the whole family and enjoy a fun\, relaxed outing at the Hall County Farmers Market! Shop fresh\, locally grown produce\, baked goods\, and handmade items while kids and adults alike enjoy the friendly\, welcoming atmosphere. \nMeet local farmers and makers\, discover seasonal favorites\, and make it a weekly family tradition. \n🗓 Open weekly:\nSaturdays 9:00 AM – 12:00 PM\nTuesdays 1:00 PM – 3:00 PM \n📍 734 E Crescent Dr\, Gainesville\, GA \nFresh food\, local vendors\, and community fun for all ages!
URL:https://www.exploregainesville.org/event/hall-co-farmers-market-saturday-2/
LOCATION:Hall County Farmers Market\, 734 East Crescent Drive\, Gainesville\, GA\, 30501\, United States
CATEGORIES:Main Calendar
ATTACH;FMTTYPE=image/png:https://www.exploregainesville.org/wp-content/uploads/2026/01/Your-paragraph-text-1.png
ORGANIZER;CN="Hall County Farmers Market":MAILTO:hallcountyfarmersmarket.com
END:VEVENT
BEGIN:VEVENT
DTSTART;TZID=America/New_York:20260629T100000
DTEND;TZID=America/New_York:20260703T130000
DTSTAMP:20260421T171827
CREATED:20251201T214617Z
LAST-MODIFIED:20251201T214727Z
UID:10012039-1782727200-1783083600@www.exploregainesville.org
SUMMARY:Summer Clay Camp - Quinlan Visual Arts Center
DESCRIPTION:Instructed by: Lesther Martin\n10:00AM – 1:00PM | $165 \nWelcome to our Clay Camp experience! Open to ages ten to fifteen.\nOur program is designed to cater to individuals at every skill level\, whether you’re just starting or have some experience with clay. We offer comprehensive instruction in throwing\, trimming\, hand-building\, and glazing techniques. \nSession One: June 1-5\nSession Two: June 8-12\nSession Three: June 22-26\nSession Four: June 29-July 3\nSession Five: July 6-10\nSession Six: July 13-17\nSession Seven: July 20-24
URL:https://www.exploregainesville.org/event/art-classes-summer-camp-qvac/2026-06-29/
LOCATION:Quinlan Visual Arts Center\, 514 Green Street NE\, Gainesville\, GA\, 30501\, United States
CATEGORIES:Arts,Main Calendar
ATTACH;FMTTYPE=image/jpeg:https://www.exploregainesville.org/wp-content/uploads/2025/11/Summer-Clay-Camp.jpg
END:VEVENT
BEGIN:VEVENT
DTSTART;TZID=America/New_York:20260701T103000
DTEND;TZID=America/New_York:20260701T120000
DTSTAMP:20260421T171827
CREATED:20260223T163948Z
LAST-MODIFIED:20260223T163957Z
UID:10012987-1782901800-1782907200@www.exploregainesville.org
SUMMARY:Reading of the Declaration of Independence - NEGA History Center
DESCRIPTION:The NEGA History Center is partnering with Judge Kelly Robertson and The Gainesville Bar Association to organize a reading of the Declaration of Independence on July 1st. Stay tuned for more info! \nProgram begins at 11 for the reading of the Declaration. \nFor the duration of the event\, NEGAHC will organize interpreters to be on site to visit with people as Button Gwinnett and Lyman Hall. There will be other reenactors in Revolutionary War costumes. Guests can chat with these figures before and after the formal program. \nOpen to the public. \nStay tuned for more info!
URL:https://www.exploregainesville.org/event/reading-of-the-declaration-of-independence-nega-history-center/
LOCATION:Roosevelt Square\, 117 Jesse Jewell Pkwy\, Gainesville\, GA\, 30501\, United States
CATEGORIES:Downtown Events,Main Calendar,US250
ATTACH;FMTTYPE=image/png:https://www.exploregainesville.org/wp-content/uploads/2026/02/ga250.png
ORGANIZER;CN="NEGA History Center":MAILTO:info@negahc.org
END:VEVENT
BEGIN:VEVENT
DTSTART;TZID=America/New_York:20260703T190000
DTEND;TZID=America/New_York:20260703T220000
DTSTAMP:20260421T171827
CREATED:20260107T171113Z
LAST-MODIFIED:20260120T195038Z
UID:10012809-1783105200-1783116000@www.exploregainesville.org
SUMMARY:First Friday Concerts - Midland Greenway
DESCRIPTION:Join us for a special First Friday Concert ON THE MIDLAND GREENWAY!\nJoin us on the Midland Greenway on July 3rd to celebrate Independence Day with a special fireworks show! \nCLICK HERE TO VIEW EVENT DETAILS
URL:https://www.exploregainesville.org/event/first-friday-concerts-downtown-gainesville-6/
LOCATION:Midland Greenway\, 682 Grove Street\, Gainesville\, GA\, 30501\, United States
CATEGORIES:Downtown Events,Main Calendar,US250,Welcome Center
ATTACH;FMTTYPE=image/png:https://www.exploregainesville.org/wp-content/uploads/2022/12/Untitled-design-2022-12-21T131045.954.png
END:VEVENT
BEGIN:VEVENT
DTSTART;VALUE=DATE:20260706
DTEND;VALUE=DATE:20260711
DTSTAMP:20260421T171827
CREATED:20260410T140657Z
LAST-MODIFIED:20260410T140725Z
UID:10013100-1783296000-1783727999@www.exploregainesville.org
SUMMARY:Summer Tennis Camp: Week 3 - Brenau University
DESCRIPTION:Ages 6-17\nThe Brenau tennis camp is open to beginner\, intermediate and advanced players.\nT-shirt included. \nDaily schedule:\n8:45am-9:00am: camp drop off;\n9:00-9:15am: stroke of the day (demonstration);\n9:15-11:15am: tennis drills and rotations;\n11:15am-12:00pm: tennis games and point play;\n*12:00pm: camp pick up (half day campers*);\n12:00-1:00pm: lunch (provided by the camp for full-day participants);\n1:00-1:15pm: technique/strategy discussion;\n1:15-3:00pm: singles and doubles match play (on court coaching);\n3:00-3:15pm: camp pick up (full-day campers).
URL:https://www.exploregainesville.org/event/summer-tennis-camp-week-3-brenau-university/
LOCATION:Lessie Smithgall Tennis Center\, 100 Smithgall Ln\, Gainesville\, GA\, 30501\, United States
CATEGORIES:Main Calendar
ATTACH;FMTTYPE=image/png:https://www.exploregainesville.org/wp-content/uploads/2026/04/Brenau_University_logo.png
END:VEVENT
BEGIN:VEVENT
DTSTART;TZID=America/New_York:20260706T100000
DTEND;TZID=America/New_York:20260710T130000
DTSTAMP:20260421T171827
CREATED:20251201T214617Z
LAST-MODIFIED:20251201T214727Z
UID:10012040-1783332000-1783688400@www.exploregainesville.org
SUMMARY:Summer Clay Camp - Quinlan Visual Arts Center
DESCRIPTION:Instructed by: Lesther Martin\n10:00AM – 1:00PM | $165 \nWelcome to our Clay Camp experience! Open to ages ten to fifteen.\nOur program is designed to cater to individuals at every skill level\, whether you’re just starting or have some experience with clay. We offer comprehensive instruction in throwing\, trimming\, hand-building\, and glazing techniques. \nSession One: June 1-5\nSession Two: June 8-12\nSession Three: June 22-26\nSession Four: June 29-July 3\nSession Five: July 6-10\nSession Six: July 13-17\nSession Seven: July 20-24
URL:https://www.exploregainesville.org/event/art-classes-summer-camp-qvac/2026-07-06/
LOCATION:Quinlan Visual Arts Center\, 514 Green Street NE\, Gainesville\, GA\, 30501\, United States
CATEGORIES:Arts,Main Calendar
ATTACH;FMTTYPE=image/jpeg:https://www.exploregainesville.org/wp-content/uploads/2025/11/Summer-Clay-Camp.jpg
END:VEVENT
BEGIN:VEVENT
DTSTART;TZID=America/New_York:20260713T100000
DTEND;TZID=America/New_York:20260717T130000
DTSTAMP:20260421T171827
CREATED:20251201T214617Z
LAST-MODIFIED:20251201T214727Z
UID:10012041-1783936800-1784293200@www.exploregainesville.org
SUMMARY:Summer Clay Camp - Quinlan Visual Arts Center
DESCRIPTION:Instructed by: Lesther Martin\n10:00AM – 1:00PM | $165 \nWelcome to our Clay Camp experience! Open to ages ten to fifteen.\nOur program is designed to cater to individuals at every skill level\, whether you’re just starting or have some experience with clay. We offer comprehensive instruction in throwing\, trimming\, hand-building\, and glazing techniques. \nSession One: June 1-5\nSession Two: June 8-12\nSession Three: June 22-26\nSession Four: June 29-July 3\nSession Five: July 6-10\nSession Six: July 13-17\nSession Seven: July 20-24
URL:https://www.exploregainesville.org/event/art-classes-summer-camp-qvac/2026-07-13/
LOCATION:Quinlan Visual Arts Center\, 514 Green Street NE\, Gainesville\, GA\, 30501\, United States
CATEGORIES:Arts,Main Calendar
ATTACH;FMTTYPE=image/jpeg:https://www.exploregainesville.org/wp-content/uploads/2025/11/Summer-Clay-Camp.jpg
END:VEVENT
BEGIN:VEVENT
DTSTART;TZID=America/New_York:20260717T170000
DTEND;TZID=America/New_York:20260717T210000
DTSTAMP:20260421T171827
CREATED:20260107T165602Z
LAST-MODIFIED:20260107T165603Z
UID:10009256-1784307600-1784322000@www.exploregainesville.org
SUMMARY:Food Truck Fridays - Lake Lanier Olympic Park
DESCRIPTION:Food Truck Fridays are rockin’ all summer long!\nOn the third Friday of every month in the spring and summer\, come enjoy the sunset from Lake Lanier Olympic Park’s Northeast Georgia Health System Plaza with friends and neighbors! Food Truck Fridays include live music\, food trucks\, beer & wine tents\, and retail vendors. Entry to the plaza and concert is free and open to the public! \nCLICK HERE TO VIEW EVENT DETAILS
URL:https://www.exploregainesville.org/event/ftf-2025-5/
LOCATION:Lake Lanier Olympic Park\, 3105 Clarks Bridge Road\, Gainesville\, GA\, 30506\, United States
CATEGORIES:LLOP,Main Calendar,Welcome Center
ATTACH;FMTTYPE=image/png:https://www.exploregainesville.org/wp-content/uploads/2022/10/Untitled-design-45.png
END:VEVENT
BEGIN:VEVENT
DTSTART;TZID=America/New_York:20260717T181500
DTEND;TZID=America/New_York:20261018T181500
DTSTAMP:20260421T171827
CREATED:20260420T175852Z
LAST-MODIFIED:20260420T175852Z
UID:10013110-1784312100-1792347300@www.exploregainesville.org
SUMMARY:Syfan Supports 5K and Fun Run - Midland Greenway
DESCRIPTION:Come join Syfan Logistics for their fourth annual Syfan Supports 5K and Fun Run on Friday\, July 17th at 6:15 pm! \nThis event will take place at the Midland Greenway in Gainesville\, Ga. My Sister’s Place will be the beneficiary of this event this year! \nMy Sister’s Place is a Christ-centered shelter that restores hope for single women and mothers with children who are experiencing homelessness. Our program helps rebuild stability by providing a loving and welcoming environment\, spiritual growth opportunities\, community connections\, and life skills training to support the journey to housing independence. \nWe raised $50\,000 last year for Love Your Story! It is amazing to see the community come together to support a great cause. \nJoin us this year on July 17th for the Syfan 5k and Fun Run in support of My Sister’s Place!\n***Must be registered by July 5th to be guaranteed a shirt in your size. All those registering through race day will receive shirts while supplies last.***
URL:https://www.exploregainesville.org/event/syfan-supports-5k-and-fun-run-midland-greenway/
LOCATION:Midland Greenway\, 682 Grove Street\, Gainesville\, GA\, 30501\, United States
CATEGORIES:Downtown Events,Main Calendar
ATTACH;FMTTYPE=image/png:https://www.exploregainesville.org/wp-content/uploads/2026/04/d6f359cc-d613-491c-bbfc-f53270db9eeb.png
ORGANIZER;CN="Syfan Logistics":MAILTO:katherine.fernandez@syfancorp.com
END:VEVENT
BEGIN:VEVENT
DTSTART;TZID=America/New_York:20260718T200000
DTEND;TZID=America/New_York:20260718T220000
DTSTAMP:20260421T171827
CREATED:20260403T204124Z
LAST-MODIFIED:20260403T204124Z
UID:10013093-1784404800-1784412000@www.exploregainesville.org
SUMMARY:Summer Music Series: Eggy - Smithgall Arts Center
DESCRIPTION:Eggy is redefining the modern jam band experience with a blend of rich songwriting\, exploratory improvisation\, and magnetic live energy. The Connecticut-based quartet—Jake Brownstein (guitar\, vocals)\, Dani Battat (keys\, vocals)\, Mike Goodman (bass\, vocals)\, and Alex Bailey (drums\, vocals)—has built a reputation for emotionally resonant songs and live performances that turn every set into an unpredictable\, communal experience. \n$1 from every ticket sold goes to Backline Care. Backline Care is a 501(c)(3) non-profit that connects music industry professionals and their families with mental health and wellness resources. \nGates open at 6:00 p.m. Bring a chair or reserve a table. RAIN OR SHINE – NO OUTSIDE FOOD OR DRINKS! Preorder a meal when purchasing tickets from our featured caterer Epting Events– limited number of meals will be available at the concert.
URL:https://www.exploregainesville.org/event/summer-music-series-eggy-smithgall-arts-center/
LOCATION:The Arts Council Smithgall Arts Center\, 331 Spring Street SW\, Gainesville\, GA\, 30501\, United States
CATEGORIES:Arts,Downtown Events,Main Calendar
ATTACH;FMTTYPE=image/png:https://www.exploregainesville.org/wp-content/uploads/2026/04/Untitled-design-3.png
ORGANIZER;CN="The Arts Council":MAILTO:info@theartscouncil.net
END:VEVENT
BEGIN:VEVENT
DTSTART;TZID=America/New_York:20260720T100000
DTEND;TZID=America/New_York:20260724T130000
DTSTAMP:20260421T171827
CREATED:20251201T214617Z
LAST-MODIFIED:20251201T214727Z
UID:10012042-1784541600-1784898000@www.exploregainesville.org
SUMMARY:Summer Clay Camp - Quinlan Visual Arts Center
DESCRIPTION:Instructed by: Lesther Martin\n10:00AM – 1:00PM | $165 \nWelcome to our Clay Camp experience! Open to ages ten to fifteen.\nOur program is designed to cater to individuals at every skill level\, whether you’re just starting or have some experience with clay. We offer comprehensive instruction in throwing\, trimming\, hand-building\, and glazing techniques. \nSession One: June 1-5\nSession Two: June 8-12\nSession Three: June 22-26\nSession Four: June 29-July 3\nSession Five: July 6-10\nSession Six: July 13-17\nSession Seven: July 20-24
URL:https://www.exploregainesville.org/event/art-classes-summer-camp-qvac/2026-07-20/
LOCATION:Quinlan Visual Arts Center\, 514 Green Street NE\, Gainesville\, GA\, 30501\, United States
CATEGORIES:Arts,Main Calendar
ATTACH;FMTTYPE=image/jpeg:https://www.exploregainesville.org/wp-content/uploads/2025/11/Summer-Clay-Camp.jpg
END:VEVENT
BEGIN:VEVENT
DTSTART;TZID=America/New_York:20260724T193000
DTEND;TZID=America/New_York:20260724T213000
DTSTAMP:20260421T171827
CREATED:20260307T135522Z
LAST-MODIFIED:20260307T135522Z
UID:10013032-1784921400-1784928600@www.exploregainesville.org
SUMMARY:Tracy Byrd - The Hall at Bourbon Brothers
DESCRIPTION:DOORS @ 6:00 PM | SHOW @ 7:30 PM \nTracy Byrd became a country music sensation in 1993 with his #1 hit Holdin’ Heaven and a Gold-certified debut album. Hits kept coming with songs like Watermelon Crawl\, The Keeper of the Stars (ACM “Song of the Year”)\, Big Love\, and 10 Rounds with Jose Cuervo\, earning him multiple Gold and Platinum albums and over 6 million records sold. \nKnown for his traditional country sound and crowd-pleasing performances\, Byrd has toured the U.S.\, Canada\, Mexico\, Europe\, and Australia\, performing thousands of shows. After a brief hiatus to focus on family\, he returned with new music and a renewed love for performing. His latest album\, All American Texan\, showcases his storytelling and hometown pride. \nDon’t miss Tracy Byrd live—classic hits\, incredible voice\, and unforgettable country energy await!
URL:https://www.exploregainesville.org/event/tracy-byrd-the-hall-at-bourbon-brothers/
LOCATION:The Hall at Bourbon Brothers\, 312 Jesse Jewell Pkwy\, Gainesville\, GA\, 30501\, United States
CATEGORIES:Downtown Events,Main Calendar
ATTACH;FMTTYPE=image/jpeg:https://www.exploregainesville.org/wp-content/uploads/2026/02/7-24-26-Screen.jpg
ORGANIZER;CN="The Hall at Bourbon Brothers":MAILTO:info@thehallga.com
END:VEVENT
BEGIN:VEVENT
DTSTART;TZID=America/New_York:20260725T080000
DTEND;TZID=America/New_York:20260725T170000
DTSTAMP:20260421T171827
CREATED:20260223T170004Z
LAST-MODIFIED:20260223T170143Z
UID:10012998-1784966400-1784998800@www.exploregainesville.org
SUMMARY:Summer Chautauqua Series: Revolutionary War - NEGA History Center
DESCRIPTION:Please join the NEGA History Center for their Summer Chautauqua series featuring Revolutionary War figures of Georgia on July 25th-26th!
URL:https://www.exploregainesville.org/event/nega-history-center-summer-chautauqua-series-july/2026-07-25/
LOCATION:NEGA History Center\, 322 Academy St NE\, Gainesville\, GA\, 30501\, United States
CATEGORIES:Main Calendar,US250
ATTACH;FMTTYPE=image/png:https://www.exploregainesville.org/wp-content/uploads/2026/02/ga250.png
ORGANIZER;CN="NEGA History Center":MAILTO:info@negahc.org
END:VEVENT
BEGIN:VEVENT
DTSTART;TZID=America/New_York:20260725T183000
DTEND;TZID=America/New_York:20260725T183000
DTSTAMP:20260421T171827
CREATED:20260420T172954Z
LAST-MODIFIED:20260420T173726Z
UID:10013114-1785004200-1785004200@www.exploregainesville.org
SUMMARY:30th Anniversary of the Centennial Olympic Games - The Boathouse at Lake Lanier Olympic Park
DESCRIPTION:Celebrate 30 years of Olympic Legacy!\n  \nJoin the Lake Lanier Olympic Park Foundation and Lake Lanier Olympic Park for a night of celebration as we look back on 30 years of legacy left behind from the Centennial Olympic Games in 1996. \n6:00pm – VIP Reception \n6:30pm – Celebration Begins > Food – Drinks – Dancing featuring the Atlanta Wedding Band \n10:00pm – Fireworks show on Lake Lanier \nFor more information\, click here!
URL:https://www.exploregainesville.org/event/30th-anniversary-of-the-centennial-olympic-games-lake-lanier-olympic-park/
LOCATION:The Boathouse at Lake Lanier Olympic Park\, 3105 Clarks Bridge Road\, GAINESVILLE\, GA\, 30506\, United States
CATEGORIES:LLOP,Main Calendar,US250
ATTACH;FMTTYPE=image/png:https://www.exploregainesville.org/wp-content/uploads/2026/04/Untitled-design-55.png
ORGANIZER;CN="City of Gainesville CVB":MAILTO:tourism@gainesvillega.gov
END:VEVENT
BEGIN:VEVENT
DTSTART;TZID=America/New_York:20260726T080000
DTEND;TZID=America/New_York:20260726T170000
DTSTAMP:20260421T171827
CREATED:20260223T170004Z
LAST-MODIFIED:20260223T170143Z
UID:10012999-1785052800-1785085200@www.exploregainesville.org
SUMMARY:Summer Chautauqua Series: Revolutionary War - NEGA History Center
DESCRIPTION:Please join the NEGA History Center for their Summer Chautauqua series featuring Revolutionary War figures of Georgia on July 25th-26th!
URL:https://www.exploregainesville.org/event/nega-history-center-summer-chautauqua-series-july/2026-07-26/
LOCATION:NEGA History Center\, 322 Academy St NE\, Gainesville\, GA\, 30501\, United States
CATEGORIES:Main Calendar,US250
ATTACH;FMTTYPE=image/png:https://www.exploregainesville.org/wp-content/uploads/2026/02/ga250.png
ORGANIZER;CN="NEGA History Center":MAILTO:info@negahc.org
END:VEVENT
END:VCALENDAR