BEGIN:VCALENDAR
VERSION:2.0
PRODID:-//Explore Gainesville - ECPv6.15.11//NONSGML v1.0//EN
CALSCALE:GREGORIAN
METHOD:PUBLISH
X-WR-CALNAME:Explore Gainesville
X-ORIGINAL-URL:https://www.exploregainesville.org
X-WR-CALDESC:Events for Explore Gainesville
REFRESH-INTERVAL;VALUE=DURATION:PT1H
X-Robots-Tag:noindex
X-PUBLISHED-TTL:PT1H
BEGIN:VTIMEZONE
TZID:America/New_York
BEGIN:DAYLIGHT
TZOFFSETFROM:-0500
TZOFFSETTO:-0400
TZNAME:EDT
DTSTART:20250309T070000
END:DAYLIGHT
BEGIN:STANDARD
TZOFFSETFROM:-0400
TZOFFSETTO:-0500
TZNAME:EST
DTSTART:20251102T060000
END:STANDARD
BEGIN:DAYLIGHT
TZOFFSETFROM:-0500
TZOFFSETTO:-0400
TZNAME:EDT
DTSTART:20260308T070000
END:DAYLIGHT
BEGIN:STANDARD
TZOFFSETFROM:-0400
TZOFFSETTO:-0500
TZNAME:EST
DTSTART:20261101T060000
END:STANDARD
BEGIN:DAYLIGHT
TZOFFSETFROM:-0500
TZOFFSETTO:-0400
TZNAME:EDT
DTSTART:20270314T070000
END:DAYLIGHT
BEGIN:STANDARD
TZOFFSETFROM:-0400
TZOFFSETTO:-0500
TZNAME:EST
DTSTART:20271107T060000
END:STANDARD
END:VTIMEZONE
BEGIN:VEVENT
DTSTART;TZID=America/New_York:20260416T150000
DTEND;TZID=America/New_York:20260416T200000
DTSTAMP:20260421T025105
CREATED:20230203T155305Z
LAST-MODIFIED:20260331T121655Z
UID:10001918-1776351600-1776369600@www.exploregainesville.org
SUMMARY:2026 Art Walk - Historic Gainesville
DESCRIPTION:Join us in Historic Gainesville on April 16th\, 2026 for our fourth annual Art Walk!\nExperience the vast creative culture in Gainesville while you discover local galleries\, local artists\, and pop-up art shows in various downtown business storefronts. This FREE event offers you the opportunity to buy original art\, dine in outstanding restaurants\, and shop in unique boutiques! \n\nCLICK HERE TO VIEW EVENT DETAILS
URL:https://www.exploregainesville.org/event/art-walk-event/
LOCATION:Downtown Square\, 112 Main Street\, SW\, Gainesville\, GA\, 30501\, United States
CATEGORIES:Arts,Downtown Events,Main Calendar,Welcome Center
ATTACH;FMTTYPE=image/png:https://www.exploregainesville.org/wp-content/uploads/2023/02/Untitled-design-31.png
END:VEVENT
END:VCALENDAR