BEGIN:VCALENDAR
VERSION:2.0
PRODID:-//Explore Gainesville - ECPv6.15.11//NONSGML v1.0//EN
CALSCALE:GREGORIAN
METHOD:PUBLISH
X-WR-CALNAME:Explore Gainesville
X-ORIGINAL-URL:https://www.exploregainesville.org
X-WR-CALDESC:Events for Explore Gainesville
REFRESH-INTERVAL;VALUE=DURATION:PT1H
X-Robots-Tag:noindex
X-PUBLISHED-TTL:PT1H
BEGIN:VTIMEZONE
TZID:America/New_York
BEGIN:DAYLIGHT
TZOFFSETFROM:-0500
TZOFFSETTO:-0400
TZNAME:EDT
DTSTART:20250309T070000
END:DAYLIGHT
BEGIN:STANDARD
TZOFFSETFROM:-0400
TZOFFSETTO:-0500
TZNAME:EST
DTSTART:20251102T060000
END:STANDARD
BEGIN:DAYLIGHT
TZOFFSETFROM:-0500
TZOFFSETTO:-0400
TZNAME:EDT
DTSTART:20260308T070000
END:DAYLIGHT
BEGIN:STANDARD
TZOFFSETFROM:-0400
TZOFFSETTO:-0500
TZNAME:EST
DTSTART:20261101T060000
END:STANDARD
BEGIN:DAYLIGHT
TZOFFSETFROM:-0500
TZOFFSETTO:-0400
TZNAME:EDT
DTSTART:20270314T070000
END:DAYLIGHT
BEGIN:STANDARD
TZOFFSETFROM:-0400
TZOFFSETTO:-0500
TZNAME:EST
DTSTART:20271107T060000
END:STANDARD
END:VTIMEZONE
BEGIN:VEVENT
DTSTART;TZID=America/New_York:20260424T120000
DTEND;TZID=America/New_York:20260426T180000
DTSTAMP:20260422T004904
CREATED:20260402T183000Z
LAST-MODIFIED:20260402T183000Z
UID:10013091-1777032000-1777226400@www.exploregainesville.org
SUMMARY:Spring Pottery and Art Market - Quinlan Visual Arts Center
DESCRIPTION:The Quinlan Visual Arts Center is proud to host the 4th Annual Spring Pottery and Art Market from April 24 through April 26. Come support local living artists! Open to the Public.\n​\nMarket hours:\nFriday\, April 24: 12:00 PM-8:00 PM\nSaturday\, April 25: 10:00 AM-6:00 PM\nSunday\, April 26: 12:00 PM-6:00 PM \n770.536.2575 | INFO@QVAC.org
URL:https://www.exploregainesville.org/event/spring-pottery-art-market-quinlan-visual-arts-center/
LOCATION:Quinlan Visual Arts Center\, 514 Green Street NE\, Gainesville\, GA\, 30501\, United States
CATEGORIES:Arts,Downtown Events,Main Calendar
ATTACH;FMTTYPE=image/png:https://www.exploregainesville.org/wp-content/uploads/2026/04/Banner-Spring-Pottery-Market.png
END:VEVENT
BEGIN:VEVENT
DTSTART;TZID=America/New_York:20260425T070000
DTEND;TZID=America/New_York:20260425T150000
DTSTAMP:20260422T004904
CREATED:20251212T211105Z
LAST-MODIFIED:20251212T211105Z
UID:10012426-1777100400-1777129200@www.exploregainesville.org
SUMMARY:2026 Gainesville-Hall Dragonboat Challenge - Lake Lanier Olympic Park
DESCRIPTION:The 2026 Gainesville Hall Dragon Boat Challenge is slated for April 25th from 7am – 3pm! \nREGISTER BY JANUARY 31ST AND RECEIVE 10 FREE PARKING PASSES!!!!! \nEntry fee includes a 1.5 hr. practice session the weekend before races with trained steersperson: April 17th (evening)\, April 18th and 19th (day). \nThis event uses 10-person +1 drummer Dragon Boats (teams of 11) with a weight limit of 2000 lbs. Perfect for the small business teams\, corporate teams\, church groups\, or neighborhood teams! Yes\, this event uses the small dragon boats which are a perfect way to get part of your full festival squad improving through practices. 100% of the proceeds of this event goes to LCKC.\nAll teams will have three 200 meters races (2 heats and a final). We also have the exciting distance race for Open and maybe some openings for a few other adventurous teams wanting to take part in racing for + – 2\,000 meters. \n-Best Dressed Drummer Contest\n-Adrian Williams Most Team Spirit Award\n-The Scott Crain Memorial Overall Champion Award\n-Medals for top three in divisions \nWith the sponsorship option\, we will put your company logo on a banner that we will hang up on the day of the event\, make special announcements about your company during the event\, and post your company information on our social media leading up to the event.
URL:https://www.exploregainesville.org/event/2026-gainesville-hall-dragonboat-challenge-lake-lanier-olympic-park/
LOCATION:Lake Lanier Olympic Park\, 3105 Clarks Bridge Road\, Gainesville\, GA\, 30506\, United States
CATEGORIES:Main Calendar
ATTACH;FMTTYPE=image/png:https://www.exploregainesville.org/wp-content/uploads/2025/12/lckc-logo-2.png
END:VEVENT
BEGIN:VEVENT
DTSTART;TZID=America/New_York:20260425T180000
DTEND;TZID=America/New_York:20260425T200000
DTSTAMP:20260422T004904
CREATED:20260224T215332Z
LAST-MODIFIED:20260224T215332Z
UID:10013026-1777140000-1777147200@www.exploregainesville.org
SUMMARY:Digital Photography With Any Camera - Quinlan Visual Arts Center
DESCRIPTION:2 sessions | April 24 & 25\, 2026 | $140 \n\nField Shoot (Botanical Gardens) 10:00 AM-12:30 PM\nClassroom instruction 6:00-8:00PM\n\nJoin award-winning nature photographer Larry Winslett for a special series of Digital Photography (with any camera) classes on April 24th and 25th! \nKnown for his stunning work capturing wildflowers\, wildlife\, rivers\, and Georgia’s iconic granite outcrops—Stone\, Panola\, and Arabia Mountains—Larry brings decades of experience as both an exhibiting artist and dedicated educator. His photography has been featured in major publications\, museums\, and permanent exhibits\, and he has taught workshops across North America. \nIn these hands-on classes\, Larry will share his expertise in capturing the beauty of the natural world while offering practical techniques you can immediately apply in the field. Whether you’re looking to refine your artistic vision or strengthen your technical skills\, this series offers a unique opportunity to learn from one of the region’s most respected nature photographers.
URL:https://www.exploregainesville.org/event/digital-photography-classes-qvac/2026-04-25/
LOCATION:Quinlan Visual Arts Center\, 514 Green Street NE\, Gainesville\, GA\, 30501\, United States
CATEGORIES:Arts,Main Calendar
ATTACH;FMTTYPE=image/png:https://www.exploregainesville.org/wp-content/uploads/2026/02/Digital-Photography-.png
END:VEVENT
END:VCALENDAR