BEGIN:VCALENDAR
VERSION:2.0
PRODID:-//Explore Gainesville - ECPv6.15.11//NONSGML v1.0//EN
CALSCALE:GREGORIAN
METHOD:PUBLISH
X-WR-CALNAME:Explore Gainesville
X-ORIGINAL-URL:https://www.exploregainesville.org
X-WR-CALDESC:Events for Explore Gainesville
REFRESH-INTERVAL;VALUE=DURATION:PT1H
X-Robots-Tag:noindex
X-PUBLISHED-TTL:PT1H
BEGIN:VTIMEZONE
TZID:America/New_York
BEGIN:DAYLIGHT
TZOFFSETFROM:-0500
TZOFFSETTO:-0400
TZNAME:EDT
DTSTART:20250309T070000
END:DAYLIGHT
BEGIN:STANDARD
TZOFFSETFROM:-0400
TZOFFSETTO:-0500
TZNAME:EST
DTSTART:20251102T060000
END:STANDARD
BEGIN:DAYLIGHT
TZOFFSETFROM:-0500
TZOFFSETTO:-0400
TZNAME:EDT
DTSTART:20260308T070000
END:DAYLIGHT
BEGIN:STANDARD
TZOFFSETFROM:-0400
TZOFFSETTO:-0500
TZNAME:EST
DTSTART:20261101T060000
END:STANDARD
BEGIN:DAYLIGHT
TZOFFSETFROM:-0500
TZOFFSETTO:-0400
TZNAME:EDT
DTSTART:20270314T070000
END:DAYLIGHT
BEGIN:STANDARD
TZOFFSETFROM:-0400
TZOFFSETTO:-0500
TZNAME:EST
DTSTART:20271107T060000
END:STANDARD
END:VTIMEZONE
BEGIN:VEVENT
DTSTART;TZID=America/New_York:20260210T080000
DTEND;TZID=America/New_York:20260401T170000
DTSTAMP:20260419T173736
CREATED:20260217T134853Z
LAST-MODIFIED:20260217T134853Z
UID:10012974-1770710400-1775062800@www.exploregainesville.org
SUMMARY:2nd Annual Georgia Cities Week Postcard Design Contest - City of Gainesville Public Relations
DESCRIPTION:In celebration of Georgia Cities Week April 20-25\, sponsored by the Georgia Municipal Association (GMA)\, the City of Gainesville is starting the fun early by opening its second annual Georgia Cities Week Postcard Design Contest to children and teens ages 5-17. The winning design\, which should represent Gainesville\, will be used as an official City of Gainesville postcard distributed to the public at City events and via the Gainesville Welcome Center. \nTo help get the creative juices flowing\, GMA has announced the 2026 Georgia Cities Week theme is “Love Your City”. The statewide event invites residents to celebrate their city governments\, community achievements and the essential services cities provide every day. \nThe contest is FREE to enter and\, in addition to having their art “travel” around the world\, the first-place winner will also receive a $30 voucher to Kilwins Gainesville and a certificate of achievement! \nTo enter\, simply grab any 4-inch-by-6-inch piece of paper. Designs may be vertical or horizontal. Make it your finest work of art yet and be sure to include your full name (first and last)\, age\, grade and telephone number with the submission. Artists must be residents of Gainesville-Hall County. The winner will be announced and the postcards released during Georgia Cities Week\, so entries must be received by no later than 5 p.m. Wednesday\, April 1. This will give City staff enough time to appropriately judge all entries\, then have the top design printed. \nEntries may be dropped off in person any time from 8 a.m.-5 p.m. Monday-Friday at the Gainesville Welcome Center in suite 100 of the Gainesville Administration Building\, located at 300 Henry Ward Way\, Gainesville; mailed to the Gainesville Public Relations Department\, attn: Public Relations Director Christina Santee-Moss\, P.O. Box 2496\, Gainesville\, GA 30503; or sent electronically via Messenger to the official City of Gainesville\, Georgia Facebook page. Questions and comments may be submitted to Mrs. Santee-Moss via the City’s website.
URL:https://www.exploregainesville.org/event/2nd-annual-georgia-cities-week-postcard-design-contest-city-of-gainesville-public-relations/
LOCATION:City of Gainesville Welcome Center\, 300 Henry Ward Way\, Suite 100\, Gainesville\, 30501\, United States
CATEGORIES:Arts,Downtown Events,Main Calendar,Welcome Center
ATTACH;FMTTYPE=image/png:https://www.exploregainesville.org/wp-content/uploads/2026/02/Untitled-design-26.png
END:VEVENT
BEGIN:VEVENT
DTSTART;TZID=America/New_York:20260226T200000
DTEND;TZID=America/New_York:20260226T200000
DTSTAMP:20260419T173736
CREATED:20251105T162550Z
LAST-MODIFIED:20251105T162607Z
UID:10011911-1772136000-1772136000@www.exploregainesville.org
SUMMARY:Sister Hazel - The Hall at Bourbon Brothers
DESCRIPTION:DOORS @ 6 PM | SHOW @ 8 PM \nOriginating from Gainesville\, FL\, Sister Hazel is comprised of five gifted\, seasoned musicians whose well-spring of natural talent has been called “one of the Top 100 Most Influential Independent Performers of the last 15 years” by Performing Songwriter Magazine. Song “All for You” topped the adult alternative charts during the summer of 1997 and the success propelled their album to platinum status. \nIn their first showing on the country music charts they made a strong debut with “Lighter In The Dark” at #4 on Billboard’s Top Country Albums chart\, #6 on Billboard’s Independent Albums chart\, #30 on Billboard’s Top Current Albums chart. The band landed on Billboard’s Top Country Albums Chart again in 2018 and2019 with Volumes I\, II\,III\, and IV of a clever EP compilation series titled “Elements. ”In February 2018\, “Water\,” landed on the Billboard Country Albums chart at #9 and at #2 on Billboard’s Independent Albums chart along with making their debut on the most revered stage in country music\, the Grand Ole Opry. In September of 2018\, “Wind” landed at #1 on iTunes country page and #11 on Billboard’s Independent Albums chart. In February 2019\, Vol. III “Fire” landed at #5 on Billboard’s Independent Albums chart and #46 Billboard’s Top Country Albums Chart. The collectible compilation series ended with “Earth” which again landed at on the charts at #15 on Billboard’s Americana/Folk Album chart. \nLiving up to their fan-centered reputation\, the band hosts annual events like “Hazelnut Hang\,” that focuses on fan involvement and was a pioneer in themed cruise experiences by co-founding “The Rock Boat\,” a cruise featuring nonstop opportunities for fan/artist interaction. Sister Hazel has been equally attentive to connecting with their audience through social media. They have since made their Grand Ole Opry debut and shared the stages with country music superstars at The CMA Festival\, Tortuga Music Festival\, among others. \nIn addition to the events and touring\, the band also gives back with “Lyrics For Life.” Founded by singer Ken Block and the Band\, the charity unites musicians and celebrities for concerts and auctions to benefit cancer research and patient-care charities.
URL:https://www.exploregainesville.org/event/sister-hazel/
LOCATION:The Hall at Bourbon Brothers\, 312 Jesse Jewell Pkwy\, Gainesville\, GA\, 30501\, United States
CATEGORIES:Downtown Events,Main Calendar
ORGANIZER;CN="The Hall at Bourbon Brothers":MAILTO:info@thehallga.com
END:VEVENT
END:VCALENDAR