BEGIN:VCALENDAR
VERSION:2.0
PRODID:-//Explore Gainesville - ECPv6.15.11//NONSGML v1.0//EN
CALSCALE:GREGORIAN
METHOD:PUBLISH
X-WR-CALNAME:Explore Gainesville
X-ORIGINAL-URL:https://www.exploregainesville.org
X-WR-CALDESC:Events for Explore Gainesville
REFRESH-INTERVAL;VALUE=DURATION:PT1H
X-Robots-Tag:noindex
X-PUBLISHED-TTL:PT1H
BEGIN:VTIMEZONE
TZID:America/New_York
BEGIN:DAYLIGHT
TZOFFSETFROM:-0500
TZOFFSETTO:-0400
TZNAME:EDT
DTSTART:20240310T070000
END:DAYLIGHT
BEGIN:STANDARD
TZOFFSETFROM:-0400
TZOFFSETTO:-0500
TZNAME:EST
DTSTART:20241103T060000
END:STANDARD
BEGIN:DAYLIGHT
TZOFFSETFROM:-0500
TZOFFSETTO:-0400
TZNAME:EDT
DTSTART:20250309T070000
END:DAYLIGHT
BEGIN:STANDARD
TZOFFSETFROM:-0400
TZOFFSETTO:-0500
TZNAME:EST
DTSTART:20251102T060000
END:STANDARD
BEGIN:DAYLIGHT
TZOFFSETFROM:-0500
TZOFFSETTO:-0400
TZNAME:EDT
DTSTART:20260308T070000
END:DAYLIGHT
BEGIN:STANDARD
TZOFFSETFROM:-0400
TZOFFSETTO:-0500
TZNAME:EST
DTSTART:20261101T060000
END:STANDARD
END:VTIMEZONE
BEGIN:VEVENT
DTSTART;VALUE=DATE:20251124
DTEND;VALUE=DATE:20251127
DTSTAMP:20260419T125001
CREATED:20250930T182847Z
LAST-MODIFIED:20250930T182847Z
UID:10011439-1763942400-1764201599@www.exploregainesville.org
SUMMARY:November No School Nature Days - Elachee Nature Science Center
DESCRIPTION:Discover Our Land’s History at Elachee! \nWhen school is out\, adventure is in! Join us this November for No School Nature Days\, where kids dive into the stories of the land we call home. Through engaging activities\, guided hikes\, and creative crafts\, children will explore the history of the Creek and Cherokee peoples\, learning how nature and culture are beautifully connected. \nHighlights: \nThemed Activities & Crafts – Create hands-on projects inspired by Cherokee traditions and the creek that shaped this land. \nLive Animal Encounters – Meet Elachee’s animal ambassadors and learn how wildlife has always been part of our region’s story. \nGuided Nature Hikes – Explore the Chicopee Woods while discovering how people of the past lived with and learned from the forest. \nExplore the Exhibits – Enjoy our discovery spaces with interactive learning opportunities indoors and out. \nDates: November 24\, 25\, 26\, 2025 \nTime: 10:00 AM–5:00 PM \nAdmission: $10 nonmembers / members free \nPerfect for elementary-aged children and younger. Give your child a school break filled with history\, culture\, and outdoor adventure!
URL:https://www.exploregainesville.org/event/november-no-school-nature-days-elachee-nature-science-center/
LOCATION:Elachee Nature Science Center\, 2125 Elachee Drive\, Gainesville\, GA\, 30504\, United States
CATEGORIES:Main Calendar
ATTACH;FMTTYPE=image/png:https://www.exploregainesville.org/wp-content/uploads/2025/09/No-School-Nature-Day.png
ORGANIZER;CN="Elachee Nature Center":MAILTO:elachee@elachee.org
END:VEVENT
BEGIN:VEVENT
DTSTART;TZID=America/New_York:20251124T190000
DTEND;TZID=America/New_York:20251124T203000
DTSTAMP:20260419T125001
CREATED:20251006T133609Z
LAST-MODIFIED:20251006T133631Z
UID:10011473-1764010800-1764016200@www.exploregainesville.org
SUMMARY:Annual Holiday Celebration and Gala - Brenau University
DESCRIPTION:All aboard The Golden Express! Join the Brenau University Departments of Music and Dance for an unforgettable holiday celebration filled with song\, dance\, and festive cheer. Inspired by the spirit of a holiday train journey—and Brenau’s signature black and gold—this collaborative performance will feature lively singing\, spirited dancing\, instrumental music\, and even an audience singalong. Come experience the joy of the season through music and movement. Free and open to the public\, this event is a holiday tradition you won’t want to miss! \nCLICK HERE TO LEARN MORE \n 
URL:https://www.exploregainesville.org/event/brenau-university-holiday-gala/
LOCATION:Brenau University’s Pearce Auditorium\, 202 Boulevard NE\, Gainesville\, GA\, 30501\, United States
CATEGORIES:Arts,Main Calendar
END:VEVENT
END:VCALENDAR