BEGIN:VCALENDAR
VERSION:2.0
PRODID:-//Explore Gainesville - ECPv6.15.11//NONSGML v1.0//EN
CALSCALE:GREGORIAN
METHOD:PUBLISH
X-ORIGINAL-URL:https://www.exploregainesville.org
X-WR-CALDESC:Events for Explore Gainesville
REFRESH-INTERVAL;VALUE=DURATION:PT1H
X-Robots-Tag:noindex
X-PUBLISHED-TTL:PT1H
BEGIN:VTIMEZONE
TZID:America/New_York
BEGIN:DAYLIGHT
TZOFFSETFROM:-0500
TZOFFSETTO:-0400
TZNAME:EDT
DTSTART:20240310T070000
END:DAYLIGHT
BEGIN:STANDARD
TZOFFSETFROM:-0400
TZOFFSETTO:-0500
TZNAME:EST
DTSTART:20241103T060000
END:STANDARD
BEGIN:DAYLIGHT
TZOFFSETFROM:-0500
TZOFFSETTO:-0400
TZNAME:EDT
DTSTART:20250309T070000
END:DAYLIGHT
BEGIN:STANDARD
TZOFFSETFROM:-0400
TZOFFSETTO:-0500
TZNAME:EST
DTSTART:20251102T060000
END:STANDARD
BEGIN:DAYLIGHT
TZOFFSETFROM:-0500
TZOFFSETTO:-0400
TZNAME:EDT
DTSTART:20260308T070000
END:DAYLIGHT
BEGIN:STANDARD
TZOFFSETFROM:-0400
TZOFFSETTO:-0500
TZNAME:EST
DTSTART:20261101T060000
END:STANDARD
END:VTIMEZONE
BEGIN:VEVENT
DTSTART;TZID=America/New_York:20250911T130000
DTEND;TZID=America/New_York:20250911T150000
DTSTAMP:20260424T163748
CREATED:20250728T172215Z
LAST-MODIFIED:20250728T172234Z
UID:10011234-1757595600-1757602800@www.exploregainesville.org
SUMMARY:Homeschools Days - Elachee Nature Science Center
DESCRIPTION:Welcome local homeschool families! We invite you to join us for an afternoon of adventure and learning! \nYour students will discover how animals and plants adapt to their environments and how that impacts their diets\, habitats\, and more! \nTheme: Migrations and Adaptations  \nActivities to include: \n\nOh Deer- guided at 1:15 and 2:15\nTree adaptation game\nFill the Bill\nBat vs. Moth\nCreate an animal for your chosen habitat\n\n\nRecommended ages: Kindergarten through 6th grade\n\n\nTime: 1:00-3:00 with guided activities at 1:15 and 2:15\n\n\nAdmission: $10/child\, $50/family (5+)\, members free\n\n\nPreregistration encouraged\, walk-ins welcome based on availability\n\n\nThis program will take place rain or shine. Please come dressed for the forecasted weather!\n\n\n\n\nQuestions? Call 770-535-976 or email sam@elachee.org
URL:https://www.exploregainesville.org/event/homeschools-days-elachee-nature-science-center-2/
LOCATION:Elachee Nature Science Center\, 2125 Elachee Drive\, Gainesville\, GA\, 30504\, United States
CATEGORIES:Main Calendar
ATTACH;FMTTYPE=image/png:https://www.exploregainesville.org/wp-content/uploads/2025/07/Homeschool-Day-CC-2.png
ORGANIZER;CN="Elachee Nature Center":MAILTO:elachee@elachee.org
END:VEVENT
END:VCALENDAR