BEGIN:VCALENDAR
VERSION:2.0
PRODID:-//Explore Gainesville - ECPv6.15.11//NONSGML v1.0//EN
CALSCALE:GREGORIAN
METHOD:PUBLISH
X-WR-CALNAME:Explore Gainesville
X-ORIGINAL-URL:https://www.exploregainesville.org
X-WR-CALDESC:Events for Explore Gainesville
REFRESH-INTERVAL;VALUE=DURATION:PT1H
X-Robots-Tag:noindex
X-PUBLISHED-TTL:PT1H
BEGIN:VTIMEZONE
TZID:America/New_York
BEGIN:DAYLIGHT
TZOFFSETFROM:-0500
TZOFFSETTO:-0400
TZNAME:EDT
DTSTART:20250309T070000
END:DAYLIGHT
BEGIN:STANDARD
TZOFFSETFROM:-0400
TZOFFSETTO:-0500
TZNAME:EST
DTSTART:20251102T060000
END:STANDARD
BEGIN:DAYLIGHT
TZOFFSETFROM:-0500
TZOFFSETTO:-0400
TZNAME:EDT
DTSTART:20260308T070000
END:DAYLIGHT
BEGIN:STANDARD
TZOFFSETFROM:-0400
TZOFFSETTO:-0500
TZNAME:EST
DTSTART:20261101T060000
END:STANDARD
BEGIN:DAYLIGHT
TZOFFSETFROM:-0500
TZOFFSETTO:-0400
TZNAME:EDT
DTSTART:20270314T070000
END:DAYLIGHT
BEGIN:STANDARD
TZOFFSETFROM:-0400
TZOFFSETTO:-0500
TZNAME:EST
DTSTART:20271107T060000
END:STANDARD
END:VTIMEZONE
BEGIN:VEVENT
DTSTART;TZID=America/New_York:20260717T170000
DTEND;TZID=America/New_York:20260717T210000
DTSTAMP:20260424T003901
CREATED:20260107T165602Z
LAST-MODIFIED:20260107T165603Z
UID:10009256-1784307600-1784322000@www.exploregainesville.org
SUMMARY:Food Truck Fridays - Lake Lanier Olympic Park
DESCRIPTION:Food Truck Fridays are rockin’ all summer long!\nOn the third Friday of every month in the spring and summer\, come enjoy the sunset from Lake Lanier Olympic Park’s Northeast Georgia Health System Plaza with friends and neighbors! Food Truck Fridays include live music\, food trucks\, beer & wine tents\, and retail vendors. Entry to the plaza and concert is free and open to the public! \nCLICK HERE TO VIEW EVENT DETAILS
URL:https://www.exploregainesville.org/event/ftf-2025-5/
LOCATION:Lake Lanier Olympic Park\, 3105 Clarks Bridge Road\, Gainesville\, GA\, 30506\, United States
CATEGORIES:LLOP,Main Calendar,Welcome Center
ATTACH;FMTTYPE=image/png:https://www.exploregainesville.org/wp-content/uploads/2022/10/Untitled-design-45.png
END:VEVENT
BEGIN:VEVENT
DTSTART;TZID=America/New_York:20260725T183000
DTEND;TZID=America/New_York:20260725T183000
DTSTAMP:20260424T003901
CREATED:20260420T172954Z
LAST-MODIFIED:20260420T173726Z
UID:10013114-1785004200-1785004200@www.exploregainesville.org
SUMMARY:30th Anniversary of the Centennial Olympic Games - The Boathouse at Lake Lanier Olympic Park
DESCRIPTION:Celebrate 30 years of Olympic Legacy!\n  \nJoin the Lake Lanier Olympic Park Foundation and Lake Lanier Olympic Park for a night of celebration as we look back on 30 years of legacy left behind from the Centennial Olympic Games in 1996. \n6:00pm – VIP Reception \n6:30pm – Celebration Begins > Food – Drinks – Dancing featuring the Atlanta Wedding Band \n10:00pm – Fireworks show on Lake Lanier \nFor more information\, click here!
URL:https://www.exploregainesville.org/event/30th-anniversary-of-the-centennial-olympic-games-lake-lanier-olympic-park/
LOCATION:The Boathouse at Lake Lanier Olympic Park\, 3105 Clarks Bridge Road\, GAINESVILLE\, GA\, 30506\, United States
CATEGORIES:LLOP,Main Calendar,US250
ATTACH;FMTTYPE=image/png:https://www.exploregainesville.org/wp-content/uploads/2026/04/Untitled-design-55.png
ORGANIZER;CN="City of Gainesville CVB":MAILTO:tourism@gainesvillega.gov
END:VEVENT
END:VCALENDAR