BEGIN:VCALENDAR
VERSION:2.0
PRODID:-//Explore Gainesville - ECPv6.15.11//NONSGML v1.0//EN
CALSCALE:GREGORIAN
METHOD:PUBLISH
X-WR-CALNAME:Explore Gainesville
X-ORIGINAL-URL:https://www.exploregainesville.org
X-WR-CALDESC:Events for Explore Gainesville
REFRESH-INTERVAL;VALUE=DURATION:PT1H
X-Robots-Tag:noindex
X-PUBLISHED-TTL:PT1H
BEGIN:VTIMEZONE
TZID:America/New_York
BEGIN:DAYLIGHT
TZOFFSETFROM:-0500
TZOFFSETTO:-0400
TZNAME:EDT
DTSTART:20250309T070000
END:DAYLIGHT
BEGIN:STANDARD
TZOFFSETFROM:-0400
TZOFFSETTO:-0500
TZNAME:EST
DTSTART:20251102T060000
END:STANDARD
BEGIN:DAYLIGHT
TZOFFSETFROM:-0500
TZOFFSETTO:-0400
TZNAME:EDT
DTSTART:20260308T070000
END:DAYLIGHT
BEGIN:STANDARD
TZOFFSETFROM:-0400
TZOFFSETTO:-0500
TZNAME:EST
DTSTART:20261101T060000
END:STANDARD
BEGIN:DAYLIGHT
TZOFFSETFROM:-0500
TZOFFSETTO:-0400
TZNAME:EDT
DTSTART:20270314T070000
END:DAYLIGHT
BEGIN:STANDARD
TZOFFSETFROM:-0400
TZOFFSETTO:-0500
TZNAME:EST
DTSTART:20271107T060000
END:STANDARD
END:VTIMEZONE
BEGIN:VEVENT
DTSTART;TZID=America/New_York:20260422T150000
DTEND;TZID=America/New_York:20260422T170000
DTSTAMP:20260422T013214
CREATED:20260420T174644Z
LAST-MODIFIED:20260420T174645Z
UID:10013113-1776870000-1776877200@www.exploregainesville.org
SUMMARY:Earth Day - Midland Greenway
DESCRIPTION:Join us for a fun and interactive afternoon for our Earth Day celebration! \nApril 22\, 2026\n3:00–5:00 PM\nMidland Greenway (find our tents near the large shade structures\, between the amphitheater and playground) \nHosted in collaboration with Main Street Gainesville\, Gainesville Parks and Recreation\, Gainesville Department of Water Resources\, Chattahoochee Riverkeepers\, and Elachee Nature Science Center! \nWhat to expect:\n• Hands-on science activities\n• Pond clean-up & trash clean-up efforts (jump in and make a difference!)\n• Learn about local conservation and water stewardship\n• Family-friendly fun for all ages \nWhether you’re passionate about protecting our waterways\, love getting your hands dirty for a good cause\, or just want to enjoy a spring afternoon outdoors\, there’s something for everyone! Let’s celebrate Earth Day together and make a lasting impact in our community. \nFB Event Page:\nhttps://www.facebook.com/events/1438994584672222/ \n🔗 Learn more about Science on Main Street Events: exploregainesville.org/science
URL:https://www.exploregainesville.org/event/earth-day-midland-greenway/
LOCATION:Midland Greenway\, 682 Grove Street\, Gainesville\, GA\, 30501\, United States
CATEGORIES:Downtown Events,Main Calendar,Main Street Events
ATTACH;FMTTYPE=image/png:https://www.exploregainesville.org/wp-content/uploads/2026/04/Earth-Day-on-the-Midland-Greenway-FB-Cover.png
ORGANIZER;CN="Main Street Gainesville":MAILTO:nparham@gainesvillega.gov
END:VEVENT
END:VCALENDAR